BEGIN:VCALENDAR
VERSION:2.0
PRODID:-//Grand Lake Creative District - ECPv6.15.20//NONSGML v1.0//EN
CALSCALE:GREGORIAN
METHOD:PUBLISH
X-WR-CALNAME:Grand Lake Creative District
X-ORIGINAL-URL:https://grandlakecreativedistrict.org
X-WR-CALDESC:Events for Grand Lake Creative District
REFRESH-INTERVAL;VALUE=DURATION:PT1H
X-Robots-Tag:noindex
X-PUBLISHED-TTL:PT1H
BEGIN:VTIMEZONE
TZID:America/Denver
BEGIN:DAYLIGHT
TZOFFSETFROM:-0700
TZOFFSETTO:-0600
TZNAME:MDT
DTSTART:20250309T090000
END:DAYLIGHT
BEGIN:STANDARD
TZOFFSETFROM:-0600
TZOFFSETTO:-0700
TZNAME:MST
DTSTART:20251102T080000
END:STANDARD
BEGIN:DAYLIGHT
TZOFFSETFROM:-0700
TZOFFSETTO:-0600
TZNAME:MDT
DTSTART:20260308T090000
END:DAYLIGHT
BEGIN:STANDARD
TZOFFSETFROM:-0600
TZOFFSETTO:-0700
TZNAME:MST
DTSTART:20261101T080000
END:STANDARD
BEGIN:DAYLIGHT
TZOFFSETFROM:-0700
TZOFFSETTO:-0600
TZNAME:MDT
DTSTART:20270314T090000
END:DAYLIGHT
BEGIN:STANDARD
TZOFFSETFROM:-0600
TZOFFSETTO:-0700
TZNAME:MST
DTSTART:20271107T080000
END:STANDARD
END:VTIMEZONE
BEGIN:VTIMEZONE
TZID:UTC
BEGIN:STANDARD
TZOFFSETFROM:+0000
TZOFFSETTO:+0000
TZNAME:UTC
DTSTART:20250101T000000
END:STANDARD
END:VTIMEZONE
BEGIN:VEVENT
DTSTART;TZID=America/Denver:20260523T120000
DTEND;TZID=America/Denver:20260523T140000
DTSTAMP:20260424T183148
CREATED:20260409T151757Z
LAST-MODIFIED:20260409T151758Z
UID:10016548-1779537600-1779544800@grandlakecreativedistrict.org
SUMMARY:Grand Opening of the NEW Grand Spirit Makerspace
DESCRIPTION:Save the Date: May 23\, 12-2PM\nGrand Opening of the NEW Grand Spirit Makerspace \nWhen: Saturday\, May 23\nTime: Noon-2pm (ribbon-cutting ceremony at 1pm)\nLocation: Rocky Mountain Folk School\, Grand Spirit Makerspace\n1128 Park Ave\, Unit A\, Grand Lake\, CO \nMark your calendar for the official opening of the Grand Spirit Makerspace\, the Rocky Mountain Folk School’s newest creative venture. A place where anyone (beginners\, hobbyists\, ranchers and visiting learners) will be able to access the tools and instruction they need for woodworking\, leatherworking\, silversmithing\, and boat building.  \nStarting at noon\, we will be opening our doors to the public. Come see the interior and exterior spaces\, enjoy a light lunch\, and celebrate those who donated their financial support\, expertise and vision to the endeavor. And don’t miss the ribbon-cutting ceremony at 1pm\, where we will have town officials and project leaders officially dedicate the building. \nWe hope to be able to celebrate this exciting milestone with you. \nGillian Horne\, Executive Director of the Rocky Mountain Folk School\nAlan Walker\, DiAnn Butler\, Jim Brainard\, and Carla Mead\nBoard of Directors\, Rocky Mountain Folk School \nP.S. Can’t make it but still want to make a difference? Consider donating to the school’s Equip Our New Makerspace campaign so we can have all the tools and equipment needed for our summer and fall curriculum. Click here to donate: https://www.zeffy.com/en-US/donation-form/equip-our-new-maker-space
URL:https://grandlakecreativedistrict.org/event/grand-opening/
LOCATION:Grand Spirit Makerspace\, 1128 Park Ave\, GRAND LAKE\, CO\, 80447\, United States
CATEGORIES:Arts and Crafts,Featured Art Workshops,Rocky Mountain Folk School
ATTACH;FMTTYPE=image/jpeg:https://grandlakecreativedistrict.org/wp-content/uploads/2026/04/IMG_6163-1-scaled.jpg
ORGANIZER;CN="Rocky Mountain Folk School":MAILTO:rockymountainfolkschool@gmail.com
END:VEVENT
BEGIN:VEVENT
DTSTART;TZID=UTC:20260605T083000
DTEND;TZID=UTC:20260606T163000
DTSTAMP:20260424T183148
CREATED:20260204T214217Z
LAST-MODIFIED:20260204T214218Z
UID:10013562-1780648200-1780763400@grandlakecreativedistrict.org
SUMMARY:Woodturning 101 Workshop
DESCRIPTION:Wood Turning\nDate: June 5 & 6\, 2026 (8:30am-4:30pm)\nCost: $200 (materials are included)\n• 1 Day option: $100/day\nLevel: All experience levels\nInstructor: Dennis Fanning\nLocation: Grand Spirit Makerspace 1128 Park Ave GRAND LAKE\, CO US 80447 \n\n\n\n\nReady to create something beautiful with your own two hands? Step up to the lathe and explore the ancient\, meditative art of woodturning at the Rocky Mountain Folk School. \nUnder the expert guidance of master woodworker Dennis Fanning—who brings over 30 years of experience—you’ll learn to transform raw wood into one-of-a-kind pieces. \nDay 1 -Spindle work: Learn the fundamentals of spindle turning is about starting with a square piece of stock and turning it round and then adding beads and coves to add interest. Projects include spatulas\, spoons\, juice meddlers\, honey dippers\, mortar and pestle and rolling pins. \nDay 2- Faceplate Work: This day will be about turning hollow form shapes\, like bowls and plates and working across the grain \, developing control over curves and symmetric forms. Learn how to hold and mount wood on the lathe by using faceplates\, screw chucks\, scroll chucks\, and jam chucks. You will be creating both functional and artistic items to take home. \n\n\n\nTo find out more are to register go to https://rockymountainfolkschool.org/classes
URL:https://grandlakecreativedistrict.org/event/woodturning-3/2026-06-05/
LOCATION:Grand Spirit Makerspace\, 1128 Park Ave\, GRAND LAKE\, CO\, 80447\, United States
CATEGORIES:Arts and Crafts,Featured Art Workshops,Rocky Mountain Folk School
ATTACH;FMTTYPE=image/jpeg:https://grandlakecreativedistrict.org/wp-content/uploads/2024/01/IMG_9022-scaled.jpg
ORGANIZER;CN="Rocky Mountain Folk School":MAILTO:rockymountainfolkschool@gmail.com
END:VEVENT
BEGIN:VEVENT
DTSTART;TZID=UTC:20260606T083000
DTEND;TZID=UTC:20260606T163000
DTSTAMP:20260424T183148
CREATED:20260204T214217Z
LAST-MODIFIED:20260204T214218Z
UID:10013563-1780734600-1780763400@grandlakecreativedistrict.org
SUMMARY:Woodturning 101 Workshop
DESCRIPTION:Wood Turning\nDate: June 5 & 6\, 2026 (8:30am-4:30pm)\nCost: $200 (materials are included)\n• 1 Day option: $100/day\nLevel: All experience levels\nInstructor: Dennis Fanning\nLocation: Grand Spirit Makerspace 1128 Park Ave GRAND LAKE\, CO US 80447 \n\n\n\n\nReady to create something beautiful with your own two hands? Step up to the lathe and explore the ancient\, meditative art of woodturning at the Rocky Mountain Folk School. \nUnder the expert guidance of master woodworker Dennis Fanning—who brings over 30 years of experience—you’ll learn to transform raw wood into one-of-a-kind pieces. \nDay 1 -Spindle work: Learn the fundamentals of spindle turning is about starting with a square piece of stock and turning it round and then adding beads and coves to add interest. Projects include spatulas\, spoons\, juice meddlers\, honey dippers\, mortar and pestle and rolling pins. \nDay 2- Faceplate Work: This day will be about turning hollow form shapes\, like bowls and plates and working across the grain \, developing control over curves and symmetric forms. Learn how to hold and mount wood on the lathe by using faceplates\, screw chucks\, scroll chucks\, and jam chucks. You will be creating both functional and artistic items to take home. \n\n\n\nTo find out more are to register go to https://rockymountainfolkschool.org/classes
URL:https://grandlakecreativedistrict.org/event/woodturning-3/2026-06-06/
LOCATION:Grand Spirit Makerspace\, 1128 Park Ave\, GRAND LAKE\, CO\, 80447\, United States
CATEGORIES:Arts and Crafts,Featured Art Workshops,Rocky Mountain Folk School
ATTACH;FMTTYPE=image/jpeg:https://grandlakecreativedistrict.org/wp-content/uploads/2024/01/IMG_9022-scaled.jpg
ORGANIZER;CN="Rocky Mountain Folk School":MAILTO:rockymountainfolkschool@gmail.com
END:VEVENT
END:VCALENDAR