BEGIN:VCALENDAR
VERSION:2.0
PRODID:-//Grand Lake Creative District - ECPv6.15.20//NONSGML v1.0//EN
CALSCALE:GREGORIAN
METHOD:PUBLISH
X-WR-CALNAME:Grand Lake Creative District
X-ORIGINAL-URL:https://grandlakecreativedistrict.org
X-WR-CALDESC:Events for Grand Lake Creative District
REFRESH-INTERVAL;VALUE=DURATION:PT1H
X-Robots-Tag:noindex
X-PUBLISHED-TTL:PT1H
BEGIN:VTIMEZONE
TZID:UTC
BEGIN:STANDARD
TZOFFSETFROM:+0000
TZOFFSETTO:+0000
TZNAME:UTC
DTSTART:20250101T000000
END:STANDARD
END:VTIMEZONE
BEGIN:VEVENT
DTSTART;TZID=UTC:20260815T090000
DTEND;TZID=UTC:20260815T170000
DTSTAMP:20260424T213224
CREATED:20260213T191324Z
LAST-MODIFIED:20260213T191324Z
UID:10016502-1786784400-1786813200@grandlakecreativedistrict.org
SUMMARY:Woodworking: Crafting a Native American Style Flute
DESCRIPTION:Creating the holes for the perfect cord on the wooden flute.\n\n\n\nIn this immersive two-day woodworking workshop\, participants will create a Native American style flute from raw wood to a finished\, playable instrument. Guided instruction in the mornings covers design\, shaping\, and tuning\, while afternoons are dedicated to focused individual work with support available as needed. No prior flute-making experience is required\, and the class is welcoming to all skill levels. Each participant will leave with a handcrafted flute made entirely by their own hands and a deeper appreciation for the process behind this traditional instrument. \n\n\n\nWhat’s included\n\n\nAll wood and materials needed to make one flute \n\n\nUse of tools and equipment during the workshop \n\n\nGuided instruction and demonstrations \n\n\nIndividual work time with instructor support \n\n\n\n\n\nCraft a wooden Native American-style flute\nFinal design of crafting a wooden Native American-style flute\n\n\nRegister by going to REGISTER
URL:https://grandlakecreativedistrict.org/event/wooden-flute/2026-08-15/
LOCATION:Rocky Mountain Folk School Building\, 315 Pitkin Ave\, Grand Lake\, CO\, 80447\, United States
CATEGORIES:Featured Art Workshops,Rocky Mountain Folk School
ATTACH;FMTTYPE=image/jpeg:https://grandlakecreativedistrict.org/wp-content/uploads/2023/12/IMG_9249_edited-scaled.jpg
ORGANIZER;CN="Rocky Mountain Folk School":MAILTO:rockymountainfolkschool@gmail.com
END:VEVENT
BEGIN:VEVENT
DTSTART;TZID=UTC:20260816T090000
DTEND;TZID=UTC:20260816T170000
DTSTAMP:20260424T213224
CREATED:20260213T191324Z
LAST-MODIFIED:20260213T191324Z
UID:10016503-1786870800-1786899600@grandlakecreativedistrict.org
SUMMARY:Woodworking: Crafting a Native American Style Flute
DESCRIPTION:Creating the holes for the perfect cord on the wooden flute.\n\n\n\nIn this immersive two-day woodworking workshop\, participants will create a Native American style flute from raw wood to a finished\, playable instrument. Guided instruction in the mornings covers design\, shaping\, and tuning\, while afternoons are dedicated to focused individual work with support available as needed. No prior flute-making experience is required\, and the class is welcoming to all skill levels. Each participant will leave with a handcrafted flute made entirely by their own hands and a deeper appreciation for the process behind this traditional instrument. \n\n\n\nWhat’s included\n\n\nAll wood and materials needed to make one flute \n\n\nUse of tools and equipment during the workshop \n\n\nGuided instruction and demonstrations \n\n\nIndividual work time with instructor support \n\n\n\n\n\nCraft a wooden Native American-style flute\nFinal design of crafting a wooden Native American-style flute\n\n\nRegister by going to REGISTER
URL:https://grandlakecreativedistrict.org/event/wooden-flute/2026-08-16/
LOCATION:Rocky Mountain Folk School Building\, 315 Pitkin Ave\, Grand Lake\, CO\, 80447\, United States
CATEGORIES:Featured Art Workshops,Rocky Mountain Folk School
ATTACH;FMTTYPE=image/jpeg:https://grandlakecreativedistrict.org/wp-content/uploads/2023/12/IMG_9249_edited-scaled.jpg
ORGANIZER;CN="Rocky Mountain Folk School":MAILTO:rockymountainfolkschool@gmail.com
END:VEVENT
END:VCALENDAR