BEGIN:VCALENDAR
VERSION:2.0
PRODID:-//Grand Lake Creative District - ECPv6.15.20//NONSGML v1.0//EN
CALSCALE:GREGORIAN
METHOD:PUBLISH
X-WR-CALNAME:Grand Lake Creative District
X-ORIGINAL-URL:https://grandlakecreativedistrict.org
X-WR-CALDESC:Events for Grand Lake Creative District
REFRESH-INTERVAL;VALUE=DURATION:PT1H
X-Robots-Tag:noindex
X-PUBLISHED-TTL:PT1H
BEGIN:VTIMEZONE
TZID:UTC
BEGIN:STANDARD
TZOFFSETFROM:+0000
TZOFFSETTO:+0000
TZNAME:UTC
DTSTART:20250101T000000
END:STANDARD
END:VTIMEZONE
BEGIN:VEVENT
DTSTART;TZID=UTC:20260602T090000
DTEND;TZID=UTC:20260602T170000
DTSTAMP:20260424T171737
CREATED:20260205T212157Z
LAST-MODIFIED:20260205T212158Z
UID:10016427-1780390800-1780419600@grandlakecreativedistrict.org
SUMMARY:Custom Sandal-Making Workshop
DESCRIPTION:In this full-day\, hands-on workshop\, students will design and build a custom pair of sandals from start to finish. Participants may choose between the Leather 7-Hole sandal or the Polyester Hiker style\, as featured on the Paisley Running Sandals website. Instruction covers proper foot measurement and fit\, cutting and shaping leather or polyester materials\, constructing a supportive footbed\, and assembling a durable\, comfortable sandal. Emphasis is placed on craftsmanship\, material selection\, and creating well-fitting\, wearable footwear. All tools and materials are provided\, and no prior experience is required. The workshop runs for one full day (8 hours). \n\nWhat’s included\n\n\nAll materials to build one custom pair of sandals (leather or polyester\, depending on selected style) \n\n\nUse of all tools and equipment during the workshop \n\n\nFoot measuring\, fitting\, and pattern guidance \n\n\nSupportive footbed materials and assembly components \n\n\nTake-home finished pair of custom sandals \n\n\nOne full day (8 hours) of hands-on instruction \n\n\n\n\nWhat’s not included\n\n\nlunch \n\n\nNon-alcoholic beverages \n\n\nsnacks \n\n\n\n\nHighlights\n\nLearn from master craftsman and educator Matt Paisley\, a fourth-generation woodworker and experienced cobbler with over 15 years of sandal-making practice. Matt brings a hands-on\, confidence-building teaching style shaped by his work at ThunderRidge High School. \nThis workshop blends traditional craftsmanship with modern\, trail-tested design. Matt’s sandals have been worn and refined on the trails of Grand Lake and Rocky Mountain National Park\, with an emphasis on comfort\, durability\, and fit. \nOffered exclusively in June and July\, this limited seasonal workshop is only available during Matt’s summer break\, making it a rare opportunity to learn custom sandal-making at the Rocky Mountain Folk School. \n\n\nREGISTER
URL:https://grandlakecreativedistrict.org/event/sandal-making-2/2026-06-02/
LOCATION:Rocky Mountain Folk School\, 315 Pitkin St\, Grand Lake (Grand County)\, CO\, 80447\, United States
CATEGORIES:Featured Art Workshops,Rocky Mountain Folk School
ATTACH;FMTTYPE=image/png:https://grandlakecreativedistrict.org/wp-content/uploads/2026/02/runningSandals_03.png
ORGANIZER;CN="Rocky Mountain Folk School":MAILTO:rockymountainfolkschool@gmail.com
END:VEVENT
BEGIN:VEVENT
DTSTART;TZID=UTC:20260602T170000
DTEND;TZID=UTC:20260602T200000
DTSTAMP:20260424T171737
CREATED:20250730T140618Z
LAST-MODIFIED:20260416T142358Z
UID:10013652-1780419600-1780430400@grandlakecreativedistrict.org
SUMMARY:Leather Belt Making Workshop
DESCRIPTION:Date: CALL 970-531-1395 to request a date\nCost: $135 (materials are included..1 day class)\nLevel/Age: All Experience Levels\nInstructor: Isaac Baugher\nLocation: RMFS Building – 315 Pitkin Ave\, Grand Lake\, CO \nCreate a custom leather belt from start to finish in this hands-on 2.5-hour workshop! You’ll learn the basics of leather tooling and construction as you craft a belt that fits your style and size. The design and carving are entirely up to you—whether it’s your initials\, a western motif\, or a freeform pattern\, this is your chance to make something uniquely yours. Walk away with a belt that’s not only functional but a piece of wearable art. \nThis class is perfect for beginners and experienced leatherworkers alike\, as Isaac will guide you through every step\, from tooling techniques to the final assembly. All materials needed to complete your belt are included in the course. \nDon’t miss this opportunity to make something special with your own hands! \nREGISTER
URL:https://grandlakecreativedistrict.org/event/leather-belt/2026-06-02/
LOCATION:Rocky Mountain Folk School\, 315 Pitkin St\, Grand Lake (Grand County)\, CO\, 80447\, United States
CATEGORIES:Rocky Mountain Folk School
ATTACH;FMTTYPE=image/jpeg:https://grandlakecreativedistrict.org/wp-content/uploads/2025/07/GrandLake_JuniperLibraryLeatherWorkshop_Lumenati_Spring2025_5-scaled.jpg
ORGANIZER;CN="Rocky Mountain Folk School":MAILTO:rockymountainfolkschool@gmail.com
END:VEVENT
BEGIN:VEVENT
DTSTART;TZID=UTC:20260602T180000
DTEND;TZID=UTC:20260602T200000
DTSTAMP:20260424T171737
CREATED:20240820T142115Z
LAST-MODIFIED:20251022T094442Z
UID:10013215-1780423200-1780430400@grandlakecreativedistrict.org
SUMMARY:Pottery Classes For Adults - Tuesdays
DESCRIPTION:Cost: $175 (includes all supplies)\nLevel: All experience levels\nInstructor: Patty Alandar\nLocation: RMFS Building – 315 Pitkin Ave\, Grand Lake\, CO \nEnjoy the satisfaction of working with clay – whether you’re a beginner\, experienced or need a refresher from years ago. In this class you can hand-build using the extruder\, slab roller and make pinch pots. You can also learn to use the wheel. It’s an open-ended class where you can make whatever you like – sculpture\, functional pottery\, jewelry\, wall pieces and wherever else your imagination takes you. Clay and tools provided. \nREGISTER
URL:https://grandlakecreativedistrict.org/event/pottery-class-tuesdays/2026-06-02/
LOCATION:Rocky Mountain Folk School Building\, 315 Pitkin Ave\, Grand Lake\, CO\, 80447\, United States
CATEGORIES:Rocky Mountain Folk School
ATTACH;FMTTYPE=image/jpeg:https://grandlakecreativedistrict.org/wp-content/uploads/2024/01/qtq80-XyJJMP.jpeg
ORGANIZER;CN="Rocky Mountain Folk School":MAILTO:rockymountainfolkschool@gmail.com
END:VEVENT
BEGIN:VEVENT
DTSTART;TZID=UTC:20260602T220000
DTEND;TZID=UTC:20260602T230000
DTSTAMP:20260424T171737
CREATED:20240619T151614Z
LAST-MODIFIED:20260105T202227Z
UID:10011791-1780437600-1780441200@grandlakecreativedistrict.org
SUMMARY:Glass Fusing Classes
DESCRIPTION:Discover the art of glass fusing with a series of workshops at the Rocky Mountain Folk School. From beginner-friendly projects to advanced techniques\, these classes offer something for every level of creativity. \n• Glass Fusing for Beginners – Learn the fundamentals while creating your own unique glass piece.\n• Glass Fusion for Two – Spend a fun evening side by side designing your own fused glass pieces in this date night class.\n• Watercolor Technique – An intermediate workshop exploring painterly effects in glass.• Butterfly Vase – Design a sculptural vase through a two-step kiln process. \nAll classes are taught by glass artist Linda Dewey at Lonesome Stone Pottery in Granby. Dates are flexible. Please visit the registration site for details\, pricing\, and to sign up. \nRegister by going to  https://rockymountainfolkschool.org/classes/
URL:https://grandlakecreativedistrict.org/event/glass-fusing/2026-06-02/
LOCATION:Lonesome Stone Pottery\, 946 Co Rd 60\, Granby\, 80446\, United States
CATEGORIES:Rocky Mountain Folk School
ATTACH;FMTTYPE=image/jpeg:https://grandlakecreativedistrict.org/wp-content/uploads/2024/06/IMG_1046_edited-scaled.jpg
ORGANIZER;CN="Rocky Mountain Folk School":MAILTO:rockymountainfolkschool@gmail.com
END:VEVENT
END:VCALENDAR