BEGIN:VCALENDAR
VERSION:2.0
PRODID:-//Grand Lake Creative District - ECPv6.15.20//NONSGML v1.0//EN
CALSCALE:GREGORIAN
METHOD:PUBLISH
X-WR-CALNAME:Grand Lake Creative District
X-ORIGINAL-URL:https://grandlakecreativedistrict.org
X-WR-CALDESC:Events for Grand Lake Creative District
REFRESH-INTERVAL;VALUE=DURATION:PT1H
X-Robots-Tag:noindex
X-PUBLISHED-TTL:PT1H
BEGIN:VTIMEZONE
TZID:UTC
BEGIN:STANDARD
TZOFFSETFROM:+0000
TZOFFSETTO:+0000
TZNAME:UTC
DTSTART:20250101T000000
END:STANDARD
END:VTIMEZONE
BEGIN:VEVENT
DTSTART;TZID=UTC:20260529T170000
DTEND;TZID=UTC:20260529T200000
DTSTAMP:20260424T171807
CREATED:20250730T140158Z
LAST-MODIFIED:20260416T142620Z
UID:10016530-1780074000-1780084800@grandlakecreativedistrict.org
SUMMARY:Kids Leather Tooling & Bracelet Class
DESCRIPTION:Date: CALL 970-531-1395 TO REQUEST A DATE\nCost: $50 (materials are included..1 day class)\nLevel/Age: All Experience Levels/ 10 and up\nInstructor: Isaac Baugher\nLocation: RMFS Building – 315 Pitkin Ave\, Grand Lake\, CO \nJoin us for a fun and creative 1.5-hour workshop where kids will learn the fundamentals of leather tooling! In this interactive class\, young artists will explore their creativity by designing and crafting their very own leather bracelet. All tools and materials are included. By the end of the class\, students will take home a one-of-a-kind bracelet and their very first tooled leather pieces. This is a hands-on experience that will inspire their creativity and introduce them to the world of leatherworking. \nThis class is perfect for beginners and experienced leatherworkers alike\, as Isaac will guide you through every step\, from tooling techniques to the final assembly. All materials needed to complete your bracelet are included in the course. \nDon’t miss this opportunity to make something special with your own hands! \nREGISTER
URL:https://grandlakecreativedistrict.org/event/kids-leather/2026-05-29/
LOCATION:Rocky Mountain Folk School\, 315 Pitkin St\, Grand Lake (Grand County)\, CO\, 80447\, United States
CATEGORIES:Rocky Mountain Folk School
ATTACH;FMTTYPE=image/jpeg:https://grandlakecreativedistrict.org/wp-content/uploads/2025/07/GrandLake_JuniperLibraryLeatherWorkshop_Lumenati_Spring2025_1-scaled.jpg
ORGANIZER;CN="Rocky Mountain Folk School":MAILTO:rockymountainfolkschool@gmail.com
END:VEVENT
BEGIN:VEVENT
DTSTART;TZID=UTC:20260529T220000
DTEND;TZID=UTC:20260529T230000
DTSTAMP:20260424T171807
CREATED:20240619T151614Z
LAST-MODIFIED:20260105T202227Z
UID:10011787-1780092000-1780095600@grandlakecreativedistrict.org
SUMMARY:Glass Fusing Classes
DESCRIPTION:Discover the art of glass fusing with a series of workshops at the Rocky Mountain Folk School. From beginner-friendly projects to advanced techniques\, these classes offer something for every level of creativity. \n• Glass Fusing for Beginners – Learn the fundamentals while creating your own unique glass piece.\n• Glass Fusion for Two – Spend a fun evening side by side designing your own fused glass pieces in this date night class.\n• Watercolor Technique – An intermediate workshop exploring painterly effects in glass.• Butterfly Vase – Design a sculptural vase through a two-step kiln process. \nAll classes are taught by glass artist Linda Dewey at Lonesome Stone Pottery in Granby. Dates are flexible. Please visit the registration site for details\, pricing\, and to sign up. \nRegister by going to  https://rockymountainfolkschool.org/classes/
URL:https://grandlakecreativedistrict.org/event/glass-fusing/2026-05-29/
LOCATION:Lonesome Stone Pottery\, 946 Co Rd 60\, Granby\, 80446\, United States
CATEGORIES:Rocky Mountain Folk School
ATTACH;FMTTYPE=image/jpeg:https://grandlakecreativedistrict.org/wp-content/uploads/2024/06/IMG_1046_edited-scaled.jpg
ORGANIZER;CN="Rocky Mountain Folk School":MAILTO:rockymountainfolkschool@gmail.com
END:VEVENT
END:VCALENDAR