BEGIN:VCALENDAR
VERSION:2.0
PRODID:-//Grand Lake Creative District - ECPv6.15.20//NONSGML v1.0//EN
CALSCALE:GREGORIAN
METHOD:PUBLISH
X-ORIGINAL-URL:https://grandlakecreativedistrict.org
X-WR-CALDESC:Events for Grand Lake Creative District
REFRESH-INTERVAL;VALUE=DURATION:PT1H
X-Robots-Tag:noindex
X-PUBLISHED-TTL:PT1H
BEGIN:VTIMEZONE
TZID:UTC
BEGIN:STANDARD
TZOFFSETFROM:+0000
TZOFFSETTO:+0000
TZNAME:UTC
DTSTART:20250101T000000
END:STANDARD
END:VTIMEZONE
BEGIN:VEVENT
DTSTART;TZID=UTC:20260522T170000
DTEND;TZID=UTC:20260522T200000
DTSTAMP:20260424T170637
CREATED:20250730T140618Z
LAST-MODIFIED:20260416T142358Z
UID:10016528-1779469200-1779480000@grandlakecreativedistrict.org
SUMMARY:Leather Belt Making Workshop
DESCRIPTION:Date: CALL 970-531-1395 to request a date\nCost: $135 (materials are included..1 day class)\nLevel/Age: All Experience Levels\nInstructor: Isaac Baugher\nLocation: RMFS Building – 315 Pitkin Ave\, Grand Lake\, CO \nCreate a custom leather belt from start to finish in this hands-on 2.5-hour workshop! You’ll learn the basics of leather tooling and construction as you craft a belt that fits your style and size. The design and carving are entirely up to you—whether it’s your initials\, a western motif\, or a freeform pattern\, this is your chance to make something uniquely yours. Walk away with a belt that’s not only functional but a piece of wearable art. \nThis class is perfect for beginners and experienced leatherworkers alike\, as Isaac will guide you through every step\, from tooling techniques to the final assembly. All materials needed to complete your belt are included in the course. \nDon’t miss this opportunity to make something special with your own hands! \nREGISTER
URL:https://grandlakecreativedistrict.org/event/leather-belt/2026-05-22/
LOCATION:Rocky Mountain Folk School\, 315 Pitkin St\, Grand Lake (Grand County)\, CO\, 80447\, United States
CATEGORIES:Rocky Mountain Folk School
ATTACH;FMTTYPE=image/jpeg:https://grandlakecreativedistrict.org/wp-content/uploads/2025/07/GrandLake_JuniperLibraryLeatherWorkshop_Lumenati_Spring2025_5-scaled.jpg
ORGANIZER;CN="Rocky Mountain Folk School":MAILTO:rockymountainfolkschool@gmail.com
END:VEVENT
BEGIN:VEVENT
DTSTART;TZID=UTC:20260522T220000
DTEND;TZID=UTC:20260522T230000
DTSTAMP:20260424T170637
CREATED:20240619T151614Z
LAST-MODIFIED:20260105T202227Z
UID:10011781-1779487200-1779490800@grandlakecreativedistrict.org
SUMMARY:Glass Fusing Classes
DESCRIPTION:Discover the art of glass fusing with a series of workshops at the Rocky Mountain Folk School. From beginner-friendly projects to advanced techniques\, these classes offer something for every level of creativity. \n• Glass Fusing for Beginners – Learn the fundamentals while creating your own unique glass piece.\n• Glass Fusion for Two – Spend a fun evening side by side designing your own fused glass pieces in this date night class.\n• Watercolor Technique – An intermediate workshop exploring painterly effects in glass.• Butterfly Vase – Design a sculptural vase through a two-step kiln process. \nAll classes are taught by glass artist Linda Dewey at Lonesome Stone Pottery in Granby. Dates are flexible. Please visit the registration site for details\, pricing\, and to sign up. \nRegister by going to  https://rockymountainfolkschool.org/classes/
URL:https://grandlakecreativedistrict.org/event/glass-fusing/2026-05-22/
LOCATION:Lonesome Stone Pottery\, 946 Co Rd 60\, Granby\, 80446\, United States
CATEGORIES:Rocky Mountain Folk School
ATTACH;FMTTYPE=image/jpeg:https://grandlakecreativedistrict.org/wp-content/uploads/2024/06/IMG_1046_edited-scaled.jpg
ORGANIZER;CN="Rocky Mountain Folk School":MAILTO:rockymountainfolkschool@gmail.com
END:VEVENT
END:VCALENDAR