BEGIN:VCALENDAR
VERSION:2.0
PRODID:-//Grand Lake Creative District - ECPv6.15.20//NONSGML v1.0//EN
CALSCALE:GREGORIAN
METHOD:PUBLISH
X-WR-CALNAME:Grand Lake Creative District
X-ORIGINAL-URL:https://grandlakecreativedistrict.org
X-WR-CALDESC:Events for Grand Lake Creative District
REFRESH-INTERVAL;VALUE=DURATION:PT1H
X-Robots-Tag:noindex
X-PUBLISHED-TTL:PT1H
BEGIN:VTIMEZONE
TZID:UTC
BEGIN:STANDARD
TZOFFSETFROM:+0000
TZOFFSETTO:+0000
TZNAME:UTC
DTSTART:20250101T000000
END:STANDARD
END:VTIMEZONE
BEGIN:VEVENT
DTSTART;TZID=UTC:20260506T160000
DTEND;TZID=UTC:20260506T190000
DTSTAMP:20260424T171808
CREATED:20240321T165911Z
LAST-MODIFIED:20240502T160440Z
UID:10001757-1778083200-1778094000@grandlakecreativedistrict.org
SUMMARY:GRAND LAKE GOURD PATCH
DESCRIPTION:Gourd Birdhouses\nGRAND LAKE GOURD PATCH\n(GOURD CLUB)\nDates: Every Wednesday in 2024 (4pm-7pm)\nCost: $25 per year (this is the membership payment which includes paints\, wood carving and burning tools. Gourds are available for purchase through Linda Troute\, or you can bring your own).\nLevel: Intermediate\nLocation: 315 Pitkin Dr\, Grand Lake\, CO 80447 \n*Note: initial gourd class is required to join the Gourd Patch (Club). \nAre you passionate about gourding and looking to deepen your craft while connecting with fellow enthusiasts? The Rocky Mountain Folk School’s Gourd Patch (Club) Membership is the perfect opportunity for you. For just $25 per year\, membership grants you access to a vibrant community of gourders who meet every Tuesday from 4pm-7pm at the folk school. \nThis informal gathering is more of a hangout than a class\, providing a relaxed environment to work on your gourd projects. The membership fee primarily contributes to stocking up on essential materials such as gourds\, bedazzles\, paints\, wood burning and carving tools\, ensuring you have everything you need for your gourding endeavors. Whether you’re a seasoned gourd artist or just starting\, the Gourd Patch (Club) welcomes you to join in and create beautiful gourd art together. \n*PLEASE NOTE: To become a member of the Gourd Patch (Club)\, you must have taken a gourd class – either in the past or the newly introduced “GourdCraft 101: Your Gateway to the Gourd Patch (Club)” class listed below. \nThe GourdCraft 101 class runs concurrently with the club meetings and serves as a fundamental introduction to gourd art. Led by the experienced gourd instructor Linda\, GourdCraft 101 provides one-on-one guidance\, teaching you the basics of tool usage and gourd design. The class fee includes one gourd\, ensuring you’re equipped with the knowledge and skills to fully enjoy your time in the Gourd Patch (Club). Secure your spot in this exciting community by registering for the GourdCraft 101 class and dive into the world of gourding with the Rocky Mountain Folk School! \nTo register or find out more please go to https://rockymountainfolkschool.org/gourd-club/
URL:https://grandlakecreativedistrict.org/event/gourd-patch-2/2026-05-06/
LOCATION:Rocky Mountain Folk School Building\, 315 Pitkin Ave\, Grand Lake\, CO\, 80447\, United States
CATEGORIES:Rocky Mountain Folk School
ATTACH;FMTTYPE=image/jpeg:https://grandlakecreativedistrict.org/wp-content/uploads/2024/01/IMG_8519-scaled.jpg
ORGANIZER;CN="Rocky Mountain Folk School":MAILTO:rockymountainfolkschool@gmail.com
END:VEVENT
BEGIN:VEVENT
DTSTART;TZID=UTC:20260506T180000
DTEND;TZID=UTC:20260506T200000
DTSTAMP:20260424T171808
CREATED:20251222T114733Z
LAST-MODIFIED:20260312T173941Z
UID:10016512-1778090400-1778097600@grandlakecreativedistrict.org
SUMMARY:Pottery Class For Adults - Wednesdays
DESCRIPTION:Cost: $175 (includes all supplies)\nLevel/Age: All experience levels; 18+\nInstructor: Patty Alander\nLocation: RMFS Building – 315 Pitkin Ave\, Grand Lake\, CO \nEnjoy the satisfaction of working with clay – whether you’re a beginner\, experienced or need a refresher from years ago. In this class you can hand-build using the extruder\, slab roller and make pinch pots. You can also learn to use the wheel. It’s an open-ended class where you can make whatever you like – sculpture\, functional pottery\, jewelry\, wall pieces and wherever else your imagination takes you. Clay and tools provided. \n\n\nSIGN UP
URL:https://grandlakecreativedistrict.org/event/pottery-wednesday/2026-05-06/
LOCATION:Rocky Mountain Folk School Building\, 315 Pitkin Ave\, Grand Lake\, CO\, 80447\, United States
CATEGORIES:Rocky Mountain Folk School
ATTACH;FMTTYPE=image/jpeg:https://grandlakecreativedistrict.org/wp-content/uploads/2024/01/qtq80-XyJJMP.jpeg
ORGANIZER;CN="Rocky Mountain Folk School":MAILTO:rockymountainfolkschool@gmail.com
END:VEVENT
END:VCALENDAR