BEGIN:VCALENDAR
VERSION:2.0
PRODID:-//Grand Lake Creative District - ECPv6.15.20//NONSGML v1.0//EN
CALSCALE:GREGORIAN
METHOD:PUBLISH
X-WR-CALNAME:Grand Lake Creative District
X-ORIGINAL-URL:https://grandlakecreativedistrict.org
X-WR-CALDESC:Events for Grand Lake Creative District
REFRESH-INTERVAL;VALUE=DURATION:PT1H
X-Robots-Tag:noindex
X-PUBLISHED-TTL:PT1H
BEGIN:VTIMEZONE
TZID:UTC
BEGIN:STANDARD
TZOFFSETFROM:+0000
TZOFFSETTO:+0000
TZNAME:UTC
DTSTART:20250101T000000
END:STANDARD
END:VTIMEZONE
BEGIN:VEVENT
DTSTART;TZID=UTC:20260411T120000
DTEND;TZID=UTC:20260411T150000
DTSTAMP:20260424T183824
CREATED:20260213T132119Z
LAST-MODIFIED:20260416T142850Z
UID:10016474-1775908800-1775919600@grandlakecreativedistrict.org
SUMMARY:Silversmithing: Spinner Ring
DESCRIPTION:In this beginner-friendly silversmithing workshop\, students will create a handcrafted spinner ring while learning foundational metalsmithing techniques. Over three hours\, participants will form a wide band\, size and shape their spinner bands\, and complete the ring with professional finishing techniques. Rings are created using jewelers brass for the wide band\, with sterling silver or copper spinner accents. A sterling silver wide band upgrade is available at the beginning of class for an additional fee. No prior experience is required\, and each student will leave with a finished ring and practical skills to build on. \n\n\n\nWhat’s included\n\n• Jewelers brass for one wide band\n• Sterling silver or copper spinner wire\n• Use of all tools and equipment\n• Guided instruction\n• Studio supplies and finishing materials \n\n\n\nWhat’s not included\n\n\nMeals or beverages \n\n\nSterling silver wide band upgrade ($40\, optional) \n\n\nAdditional materials for extra rings \n\n\n\n\nItinerary\n\nIntroduction to tools\, materials\, and safety \nMeasuring and forming the wide band \nSizing and shaping spinner bands \nSoldering and assembly \nFiling\, sanding\, and polishing to finish \n\n\n\nHighlights\n\nCreate a dynamic\, wearable ring that moves with you. \nLearn essential silversmithing skills that form the foundation for future jewelry work. \nWork with quality metals including jewelers brass and sterling silver accents. \nLeave with a finished spinner ring that reflects your craftsmanship and personal style. \n\n\n\n\n\n\n\n\nTo Register and see all the classes clicking here 
URL:https://grandlakecreativedistrict.org/event/spinner-ring/2026-04-11/
LOCATION:Rocky Mountain Folk School Building\, 315 Pitkin Ave\, Grand Lake\, CO\, 80447\, United States
CATEGORIES:Featured Art Workshops,Rocky Mountain Folk School
ATTACH;FMTTYPE=image/jpeg:https://grandlakecreativedistrict.org/wp-content/uploads/2026/02/spinners4.jpeg
ORGANIZER;CN="Rocky Mountain Folk School":MAILTO:rockymountainfolkschool@gmail.com
END:VEVENT
END:VCALENDAR