BEGIN:VCALENDAR
VERSION:2.0
PRODID:-//Grand Lake Creative District - ECPv6.15.20//NONSGML v1.0//EN
CALSCALE:GREGORIAN
METHOD:PUBLISH
X-WR-CALNAME:Grand Lake Creative District
X-ORIGINAL-URL:https://grandlakecreativedistrict.org
X-WR-CALDESC:Events for Grand Lake Creative District
REFRESH-INTERVAL;VALUE=DURATION:PT1H
X-Robots-Tag:noindex
X-PUBLISHED-TTL:PT1H
BEGIN:VTIMEZONE
TZID:UTC
BEGIN:STANDARD
TZOFFSETFROM:+0000
TZOFFSETTO:+0000
TZNAME:UTC
DTSTART:20250101T000000
END:STANDARD
END:VTIMEZONE
BEGIN:VEVENT
DTSTART;TZID=UTC:20260315T090000
DTEND;TZID=UTC:20260315T120000
DTSTAMP:20260424T183256
CREATED:20251228T125744Z
LAST-MODIFIED:20260416T142946Z
UID:10013431-1773565200-1773576000@grandlakecreativedistrict.org
SUMMARY:Silversmithing: Stacking Rings
DESCRIPTION:In this beginner-friendly silversmithing class\, students will learn foundational metalsmithing techniques while creating a set of sterling silver stacking rings. Participants will be guided step by step through the process\, from forming and sizing 3 ring bands to texturing and finishing their unique set of stacking rings. No prior experience is required\, and students will leave with a set of handcrafted sterling silver stacking rings and a solid introduction to essential silversmithing skills they can continue to build on. \n\n\n\nWhat’s included\n\n\nAll sterling silver materials for three stacking rings\nUse of silversmithing tools and equipment during class\nStep-by-step instruction from an experienced instructor\nTexturing and finishing supplies\nTake-home set of handcrafted sterling silver stacking rings\n\n\n\n\n\n\n\nTo Register and see all the classes clicking here 
URL:https://grandlakecreativedistrict.org/event/stacking-rings/2026-03-15/
LOCATION:Rocky Mountain Folk School Building\, 315 Pitkin Ave\, Grand Lake\, CO\, 80447\, United States
CATEGORIES:Featured Art Workshops,Rocky Mountain Folk School
ATTACH;FMTTYPE=image/jpeg:https://grandlakecreativedistrict.org/wp-content/uploads/2025/12/Stackable-Finger-Trinkets.jpg
ORGANIZER;CN="Rocky Mountain Folk School":MAILTO:rockymountainfolkschool@gmail.com
END:VEVENT
BEGIN:VEVENT
DTSTART;TZID=UTC:20260321T120000
DTEND;TZID=UTC:20260321T150000
DTSTAMP:20260424T183256
CREATED:20260213T132119Z
LAST-MODIFIED:20260416T142850Z
UID:10016473-1774094400-1774105200@grandlakecreativedistrict.org
SUMMARY:Silversmithing: Spinner Ring
DESCRIPTION:In this beginner-friendly silversmithing workshop\, students will create a handcrafted spinner ring while learning foundational metalsmithing techniques. Over three hours\, participants will form a wide band\, size and shape their spinner bands\, and complete the ring with professional finishing techniques. Rings are created using jewelers brass for the wide band\, with sterling silver or copper spinner accents. A sterling silver wide band upgrade is available at the beginning of class for an additional fee. No prior experience is required\, and each student will leave with a finished ring and practical skills to build on. \n\n\n\nWhat’s included\n\n• Jewelers brass for one wide band\n• Sterling silver or copper spinner wire\n• Use of all tools and equipment\n• Guided instruction\n• Studio supplies and finishing materials \n\n\n\nWhat’s not included\n\n\nMeals or beverages \n\n\nSterling silver wide band upgrade ($40\, optional) \n\n\nAdditional materials for extra rings \n\n\n\n\nItinerary\n\nIntroduction to tools\, materials\, and safety \nMeasuring and forming the wide band \nSizing and shaping spinner bands \nSoldering and assembly \nFiling\, sanding\, and polishing to finish \n\n\n\nHighlights\n\nCreate a dynamic\, wearable ring that moves with you. \nLearn essential silversmithing skills that form the foundation for future jewelry work. \nWork with quality metals including jewelers brass and sterling silver accents. \nLeave with a finished spinner ring that reflects your craftsmanship and personal style. \n\n\n\n\n\n\n\n\nTo Register and see all the classes clicking here 
URL:https://grandlakecreativedistrict.org/event/spinner-ring/2026-03-21/
LOCATION:Rocky Mountain Folk School Building\, 315 Pitkin Ave\, Grand Lake\, CO\, 80447\, United States
CATEGORIES:Featured Art Workshops,Rocky Mountain Folk School
ATTACH;FMTTYPE=image/jpeg:https://grandlakecreativedistrict.org/wp-content/uploads/2026/02/spinners4.jpeg
ORGANIZER;CN="Rocky Mountain Folk School":MAILTO:rockymountainfolkschool@gmail.com
END:VEVENT
END:VCALENDAR