BEGIN:VCALENDAR
VERSION:2.0
PRODID:-//Grand Lake Creative District - ECPv6.15.20//NONSGML v1.0//EN
CALSCALE:GREGORIAN
METHOD:PUBLISH
X-ORIGINAL-URL:https://grandlakecreativedistrict.org
X-WR-CALDESC:Events for Grand Lake Creative District
REFRESH-INTERVAL;VALUE=DURATION:PT1H
X-Robots-Tag:noindex
X-PUBLISHED-TTL:PT1H
BEGIN:VTIMEZONE
TZID:America/Denver
BEGIN:DAYLIGHT
TZOFFSETFROM:-0700
TZOFFSETTO:-0600
TZNAME:MDT
DTSTART:20250309T090000
END:DAYLIGHT
BEGIN:STANDARD
TZOFFSETFROM:-0600
TZOFFSETTO:-0700
TZNAME:MST
DTSTART:20251102T080000
END:STANDARD
BEGIN:DAYLIGHT
TZOFFSETFROM:-0700
TZOFFSETTO:-0600
TZNAME:MDT
DTSTART:20260308T090000
END:DAYLIGHT
BEGIN:STANDARD
TZOFFSETFROM:-0600
TZOFFSETTO:-0700
TZNAME:MST
DTSTART:20261101T080000
END:STANDARD
BEGIN:DAYLIGHT
TZOFFSETFROM:-0700
TZOFFSETTO:-0600
TZNAME:MDT
DTSTART:20270314T090000
END:DAYLIGHT
BEGIN:STANDARD
TZOFFSETFROM:-0600
TZOFFSETTO:-0700
TZNAME:MST
DTSTART:20271107T080000
END:STANDARD
END:VTIMEZONE
BEGIN:VEVENT
DTSTART;TZID=America/Denver:20260117T083000
DTEND;TZID=America/Denver:20260117T160000
DTSTAMP:20260424T214858
CREATED:20251022T094104Z
LAST-MODIFIED:20251022T094138Z
UID:10013154-1768638600-1768665600@grandlakecreativedistrict.org
SUMMARY:Woodturning Workshop
DESCRIPTION:Date: Fri & Sat\, Jan 16th and Jan 17th\, 2025 (8:30am-4:30pm)\nCost: $200 (materials are included..lunch is not provided..bring sack lunch)\n• 1 Day option: $100/day\nLevel: All experience levels\nInstructor: Dennis Fanning\nLocation: Wood Shop located around Lake Granby\, CO – exact address will be provided to you in an email after registration. \nReady to create something beautiful with your own two hands? Step up to the lathe and explore the ancient\, meditative art of woodturning at the Rocky Mountain Folk School. \nUnder the expert guidance of master woodworker Dennis Fanning—who brings over 30 years of experience—you’ll learn to transform raw wood into one-of-a-kind pieces. \nDay 1 -Spindle work: Learn the fundamentals of spindle turning is about starting with a square piece of stock and turning it round and then adding beads and coves to add interest. Projects include spatulas\, spoons\, juice meddlers\, honey dippers\, mortar and pestle and rolling pins. \nDay 2- Faceplate Work: This day will be about turning hollow form shapes\, like bowls and plates and working across the grain \, developing control over curves and symmetric forms. Learn how to hold and mount wood on the lathe by using faceplates\, screw chucks\, scroll chucks\, and jam chucks. You will be creating both functional and artistic items to take home. \nRegister now: https://rockymountainfolkschool.org/classes/
URL:https://grandlakecreativedistrict.org/event/woodturning-workshop-3/2026-01-17/
LOCATION:Rocky Mountain Folk School Building\, 315 Pitkin Ave\, Grand Lake\, CO\, 80447\, United States
CATEGORIES:Featured Art Workshops,Rocky Mountain Folk School
ATTACH;FMTTYPE=image/jpeg:https://grandlakecreativedistrict.org/wp-content/uploads/2025/01/DSC_0573_rmfs_site.jpg
ORGANIZER;CN="Rocky Mountain Folk School":MAILTO:rockymountainfolkschool@gmail.com
END:VEVENT
END:VCALENDAR