BEGIN:VCALENDAR
VERSION:2.0
PRODID:-//Grand Lake Creative District - ECPv6.15.20//NONSGML v1.0//EN
CALSCALE:GREGORIAN
METHOD:PUBLISH
X-ORIGINAL-URL:https://grandlakecreativedistrict.org
X-WR-CALDESC:Events for Grand Lake Creative District
REFRESH-INTERVAL;VALUE=DURATION:PT1H
X-Robots-Tag:noindex
X-PUBLISHED-TTL:PT1H
BEGIN:VTIMEZONE
TZID:UTC
BEGIN:STANDARD
TZOFFSETFROM:+0000
TZOFFSETTO:+0000
TZNAME:UTC
DTSTART:20250101T000000
END:STANDARD
END:VTIMEZONE
BEGIN:VTIMEZONE
TZID:America/Denver
BEGIN:DAYLIGHT
TZOFFSETFROM:-0700
TZOFFSETTO:-0600
TZNAME:MDT
DTSTART:20250309T090000
END:DAYLIGHT
BEGIN:STANDARD
TZOFFSETFROM:-0600
TZOFFSETTO:-0700
TZNAME:MST
DTSTART:20251102T080000
END:STANDARD
BEGIN:DAYLIGHT
TZOFFSETFROM:-0700
TZOFFSETTO:-0600
TZNAME:MDT
DTSTART:20260308T090000
END:DAYLIGHT
BEGIN:STANDARD
TZOFFSETFROM:-0600
TZOFFSETTO:-0700
TZNAME:MST
DTSTART:20261101T080000
END:STANDARD
BEGIN:DAYLIGHT
TZOFFSETFROM:-0700
TZOFFSETTO:-0600
TZNAME:MDT
DTSTART:20270314T090000
END:DAYLIGHT
BEGIN:STANDARD
TZOFFSETFROM:-0600
TZOFFSETTO:-0700
TZNAME:MST
DTSTART:20271107T080000
END:STANDARD
END:VTIMEZONE
BEGIN:VEVENT
DTSTART;TZID=UTC:20260502T130000
DTEND;TZID=UTC:20260502T170000
DTSTAMP:20260424T151929
CREATED:20251222T120114Z
LAST-MODIFIED:20251222T120114Z
UID:10013389-1777726800-1777741200@grandlakecreativedistrict.org
SUMMARY:Faux Stained Glass: Beginner
DESCRIPTION:Date Options:\nJanuary 24th 2026 1pm – 5pm (Moose)\nFebruary 7th 2026 1pm – 5pm (TBD..valentine special)\nMarch 7th 2026 1pm – 5pm (Western Cow Skull)\nApril 12th 2026 1pm – 5pm (Humming Bird)\nMay 2nd 2026 1pm – 5pm (Dragonfly)\nJune 2nd 2026 1pm – 5pm (Colorado Circle) \nBring color and light into your space with this creative faux stained glass workshop—perfect for a ladies’ night out or a fun get-together with your gal pals. Each month features a new design theme\, giving returning students the chance to try something fresh while building skills over time. Be sure to check the calendar listing to see the featured design for that session. Using an 8×10 glass panel from a frame and Plaid Gallery Glass Window Paint\, you’ll create a vibrant\, decorative piece with guidance and optional templates provided. \nThis welcoming\, hands-on class is suitable for all skill levels and offers a relaxed four-hour block to play with color\, line\, and texture in a cozy\, social setting. Finished pieces need a couple of days to fully dry before pickup\, making them perfect for gifting or adding a handmade touch to your home. \n\n\n\nWhat’s included\n\n*8×10 inch glass panel from a frame\n*Glass Window Paint\n*Templates for the monthly design\n*Step-by-step guidance from the instructor\n*All necessary tools and materials for painting\n*A relaxing\, hands-on creative experience \n\n\n\nWhat’s not included\n\nShipping fees\, if you choose to have your finished piece shipped \n\n\n\nREGISTER NOW
URL:https://grandlakecreativedistrict.org/event/faux-stained-glass/2026-05-02/
LOCATION:Rocky Mountain Folk School\, 315 Pitkin St\, Grand Lake (Grand County)\, CO\, 80447\, United States
CATEGORIES:Featured Art Workshops,Rocky Mountain Folk School
ATTACH;FMTTYPE=image/jpeg:https://grandlakecreativedistrict.org/wp-content/uploads/2025/12/IMG_4637-1-scaled.jpeg
ORGANIZER;CN="Rocky Mountain Folk School":MAILTO:rockymountainfolkschool@gmail.com
END:VEVENT
BEGIN:VEVENT
DTSTART;TZID=UTC:20260503T100000
DTEND;TZID=UTC:20260503T130000
DTSTAMP:20260424T151929
CREATED:20251226T190429Z
LAST-MODIFIED:20260415T194950Z
UID:10016571-1777802400-1777813200@grandlakecreativedistrict.org
SUMMARY:Silversmithing: Sterling Silver Bracelet with Stone
DESCRIPTION:In this beginner-friendly silversmithing class\, students will learn foundational metalsmithing techniques while creating a sterling silver bracelet set with a stone. Participants will be guided step by step through the process\, from shaping and forming silver to setting a stone and finishing their piece. A selection of stones is included for students to choose from\, and those interested may upgrade to a premium stone available for purchase directly from the instructor. No prior experience is required\, and students will leave with a handcrafted bracelet and a solid introduction to silversmithing skills they can build on in future classes. \n\n\n\nWhat’s included\n\nSterling silver for one bracelet \nSelection of stones to choose from \n\nUse of silversmithing tools and equipment\nStep-by-step instruction from the instructor\nTake-home finished sterling silver bracelet\n\n\n\n\nWhat’s not included\n\nOptional stone upgrades available for purchase directly from the instructor. \n\n\n\n\nTo Register and see all the classes clicking here 
URL:https://grandlakecreativedistrict.org/event/sterling-silver-2/2026-05-03/
LOCATION:Rocky Mountain Folk School Building\, 315 Pitkin Ave\, Grand Lake\, CO\, 80447\, United States
CATEGORIES:Featured Art Workshops,Rocky Mountain Folk School
ATTACH;FMTTYPE=image/jpeg:https://grandlakecreativedistrict.org/wp-content/uploads/2025/12/IMG_4052.jpeg
ORGANIZER;CN="Rocky Mountain Folk School":MAILTO:rockymountainfolkschool@gmail.com
END:VEVENT
BEGIN:VEVENT
DTSTART;TZID=UTC:20260508T100000
DTEND;TZID=UTC:20260508T130000
DTSTAMP:20260424T151929
CREATED:20251228T125744Z
LAST-MODIFIED:20260416T142946Z
UID:10016552-1778234400-1778245200@grandlakecreativedistrict.org
SUMMARY:Silversmithing: Stacking Rings
DESCRIPTION:In this beginner-friendly silversmithing class\, students will learn foundational metalsmithing techniques while creating a set of sterling silver stacking rings. Participants will be guided step by step through the process\, from forming and sizing 3 ring bands to texturing and finishing their unique set of stacking rings. No prior experience is required\, and students will leave with a set of handcrafted sterling silver stacking rings and a solid introduction to essential silversmithing skills they can continue to build on. \n\n\n\nWhat’s included\n\n\nAll sterling silver materials for three stacking rings\nUse of silversmithing tools and equipment during class\nStep-by-step instruction from an experienced instructor\nTexturing and finishing supplies\nTake-home set of handcrafted sterling silver stacking rings\n\n\n\n\n\n\n\nTo Register and see all the classes clicking here 
URL:https://grandlakecreativedistrict.org/event/stacking-rings/2026-05-08/
LOCATION:Rocky Mountain Folk School Building\, 315 Pitkin Ave\, Grand Lake\, CO\, 80447\, United States
CATEGORIES:Featured Art Workshops,Rocky Mountain Folk School
ATTACH;FMTTYPE=image/jpeg:https://grandlakecreativedistrict.org/wp-content/uploads/2025/12/Stackable-Finger-Trinkets.jpg
ORGANIZER;CN="Rocky Mountain Folk School":MAILTO:rockymountainfolkschool@gmail.com
END:VEVENT
BEGIN:VEVENT
DTSTART;TZID=UTC:20260516T090000
DTEND;TZID=UTC:20260516T120000
DTSTAMP:20260424T151929
CREATED:20260213T132648Z
LAST-MODIFIED:20260416T142527Z
UID:10016489-1778922000-1778932800@grandlakecreativedistrict.org
SUMMARY:Silversmithing: Bold Brass Hoops
DESCRIPTION:In this beginner-friendly jewelry workshop\, students will learn foundational metalsmithing techniques while creating a bold pair of brass hoop earrings with sterling silver posts. Over the course of three hours\, participants are guided step by step through sizing\, stamping\, forming\, soldering\, and finishing their own unique design. No prior experience is required. By the end of class\, each student will leave with a handcrafted pair of brass hoops and a strong introduction to essential silversmithing skills they can continue to build on. \n\n\n\nWhat’s included\n\n• Jewelers brass for one pair of hoops\n• Sterling silver earring posts\n• All tools and equipment\n• Guided instruction\n• Use of studio supplies during class \n\n\n\n\n\n\n\n\nTo Register and see all the classes clicking here 
URL:https://grandlakecreativedistrict.org/event/bold-hoops/2026-05-16/
LOCATION:Rocky Mountain Folk School Building\, 315 Pitkin Ave\, Grand Lake\, CO\, 80447\, United States
CATEGORIES:Featured Art Workshops,Rocky Mountain Folk School
ATTACH;FMTTYPE=image/jpeg:https://grandlakecreativedistrict.org/wp-content/uploads/2026/02/bigbrasshoops5-scaled.jpeg
ORGANIZER;CN="Rocky Mountain Folk School":MAILTO:rockymountainfolkschool@gmail.com
END:VEVENT
BEGIN:VEVENT
DTSTART;TZID=UTC:20260517T150000
DTEND;TZID=UTC:20260517T180000
DTSTAMP:20260424T151929
CREATED:20251228T125134Z
LAST-MODIFIED:20260416T142729Z
UID:10016558-1779030000-1779040800@grandlakecreativedistrict.org
SUMMARY:Silversmithing: Hammered Hoop
DESCRIPTION:In this beginner-friendly silversmithing class\, students will learn foundational metalsmithing techniques while creating a pair of hammered hoops. Participants will be guided step-by-step through the process\, from forming\, texturing\, and finishing their unique\, one-of-a-kind pair of earrings. Students may choose from copper\, jeweler’s brass\, or sterling silver. No prior experience is required\, and students will leave with a pair of handcrafted hoops and a solid introduction to essential silversmithing skills they can continue to build upon. \n\n\n\nWhat’s included\n\n*All materials for one pair of hoop earrings (copper\, jeweler’s brass\, or sterling silver) \n\nUse of silversmithing tools and equipment during class\nStep-by-step instruction from an experienced instructor\nTexturing and finishing supplies\nTake-home pair of handcrafted hammered hoop earrings\n\n\n\n\n\nTo Register and see all the classes clicking here 
URL:https://grandlakecreativedistrict.org/event/hammered-hoops/2026-05-17/
LOCATION:Rocky Mountain Folk School Building\, 315 Pitkin Ave\, Grand Lake\, CO\, 80447\, United States
CATEGORIES:Featured Art Workshops,Rocky Mountain Folk School
ATTACH;FMTTYPE=image/jpeg:https://grandlakecreativedistrict.org/wp-content/uploads/2025/12/IMG_3181-scaled.jpg
ORGANIZER;CN="Rocky Mountain Folk School":MAILTO:rockymountainfolkschool@gmail.com
END:VEVENT
BEGIN:VEVENT
DTSTART;TZID=UTC:20260523T100000
DTEND;TZID=UTC:20260523T130000
DTSTAMP:20260424T151929
CREATED:20251226T163922Z
LAST-MODIFIED:20260416T212900Z
UID:10016561-1779530400-1779541200@grandlakecreativedistrict.org
SUMMARY:Silversmithing: Sterling Silver Ring with Stone
DESCRIPTION:In this beginner-friendly silversmithing class\, students will learn foundational metalsmithing techniques while creating a sterling silver ring set with a stone. Participants will be guided step by step through the process\, from forming and sizing a ring band to setting a stone and finishing their piece. A selection of stones is included for students to choose from\, with optional premium stone upgrades available for purchase directly from the instructor. No prior experience is required\, and students will leave with a handcrafted sterling silver ring and a solid introduction to essential silversmithing skills they can continue to build on. \n\n\n\nWhat’s included\n\nSterling silver for one ring \nSelection of stones to choose from \n\nUse of silversmithing tools and equipment\nStep-by-step instruction from the instructor\nTake-home finished sterling silver bracelet\n\n\n\n\nWhat’s not included\n\nOptional stone upgrades available for purchase directly from the instructor. \n\n\nTo Register and see all the classes clicking here 
URL:https://grandlakecreativedistrict.org/event/sterling-silver/2026-05-23/
LOCATION:Rocky Mountain Folk School Building\, 315 Pitkin Ave\, Grand Lake\, CO\, 80447\, United States
CATEGORIES:Featured Art Workshops,Rocky Mountain Folk School
ATTACH;FMTTYPE=image/jpeg:https://grandlakecreativedistrict.org/wp-content/uploads/2025/12/IMG_4074-scaled.jpeg
ORGANIZER;CN="Rocky Mountain Folk School":MAILTO:rockymountainfolkschool@gmail.com
END:VEVENT
BEGIN:VEVENT
DTSTART;TZID=America/Denver:20260523T120000
DTEND;TZID=America/Denver:20260523T140000
DTSTAMP:20260424T151929
CREATED:20260409T151757Z
LAST-MODIFIED:20260409T151758Z
UID:10016548-1779537600-1779544800@grandlakecreativedistrict.org
SUMMARY:Grand Opening of the NEW Grand Spirit Makerspace
DESCRIPTION:Save the Date: May 23\, 12-2PM\nGrand Opening of the NEW Grand Spirit Makerspace \nWhen: Saturday\, May 23\nTime: Noon-2pm (ribbon-cutting ceremony at 1pm)\nLocation: Rocky Mountain Folk School\, Grand Spirit Makerspace\n1128 Park Ave\, Unit A\, Grand Lake\, CO \nMark your calendar for the official opening of the Grand Spirit Makerspace\, the Rocky Mountain Folk School’s newest creative venture. A place where anyone (beginners\, hobbyists\, ranchers and visiting learners) will be able to access the tools and instruction they need for woodworking\, leatherworking\, silversmithing\, and boat building.  \nStarting at noon\, we will be opening our doors to the public. Come see the interior and exterior spaces\, enjoy a light lunch\, and celebrate those who donated their financial support\, expertise and vision to the endeavor. And don’t miss the ribbon-cutting ceremony at 1pm\, where we will have town officials and project leaders officially dedicate the building. \nWe hope to be able to celebrate this exciting milestone with you. \nGillian Horne\, Executive Director of the Rocky Mountain Folk School\nAlan Walker\, DiAnn Butler\, Jim Brainard\, and Carla Mead\nBoard of Directors\, Rocky Mountain Folk School \nP.S. Can’t make it but still want to make a difference? Consider donating to the school’s Equip Our New Makerspace campaign so we can have all the tools and equipment needed for our summer and fall curriculum. Click here to donate: https://www.zeffy.com/en-US/donation-form/equip-our-new-maker-space
URL:https://grandlakecreativedistrict.org/event/grand-opening/
LOCATION:Grand Spirit Makerspace\, 1128 Park Ave\, GRAND LAKE\, CO\, 80447\, United States
CATEGORIES:Arts and Crafts,Featured Art Workshops,Rocky Mountain Folk School
ATTACH;FMTTYPE=image/jpeg:https://grandlakecreativedistrict.org/wp-content/uploads/2026/04/IMG_6163-1-scaled.jpg
ORGANIZER;CN="Rocky Mountain Folk School":MAILTO:rockymountainfolkschool@gmail.com
END:VEVENT
BEGIN:VEVENT
DTSTART;TZID=UTC:20260524T100000
DTEND;TZID=UTC:20260524T130000
DTSTAMP:20260424T151929
CREATED:20260415T200043Z
LAST-MODIFIED:20260416T154111Z
UID:10016583-1779616800-1779627600@grandlakecreativedistrict.org
SUMMARY:Silversmithing: Essential Ring Band Workshop
DESCRIPTION:Step into the world of metalsmithing with this beginner-friendly Essential Ring Band Workshop. In this hands-on class\, students will learn foundational jewelry-making techniques while crafting a sterling silver ring band from start to finish. \nYou’ll be guided through each step of the process\, including sizing your ring\, cutting and shaping the metal\, filing for a smooth finish\, forming the band\, and polishing your final piece. Along the way\, you’ll gain confidence using essential tools and techniques used in traditional metalsmithing. \nNo prior experience is needed—this class is designed for complete beginners as well as those looking to build a strong foundation. By the end of the session\, you’ll leave with a beautifully finished\, ready-to-wear sterling silver ring and the skills to continue exploring jewelry making.
URL:https://grandlakecreativedistrict.org/event/silver-ring/2026-05-24/
LOCATION:Rocky Mountain Folk School Building\, 315 Pitkin Ave\, Grand Lake\, CO\, 80447\, United States
CATEGORIES:Featured Art Workshops,Rocky Mountain Folk School
ATTACH;FMTTYPE=image/jpeg:https://grandlakecreativedistrict.org/wp-content/uploads/2026/04/IMG_4925.jpeg
ORGANIZER;CN="Rocky Mountain Folk School":MAILTO:rockymountainfolkschool@gmail.com
END:VEVENT
BEGIN:VEVENT
DTSTART;TZID=UTC:20260530T100000
DTEND;TZID=UTC:20260530T130000
DTSTAMP:20260424T151929
CREATED:20260213T132119Z
LAST-MODIFIED:20260416T142850Z
UID:10016566-1780135200-1780146000@grandlakecreativedistrict.org
SUMMARY:Silversmithing: Spinner Ring
DESCRIPTION:In this beginner-friendly silversmithing workshop\, students will create a handcrafted spinner ring while learning foundational metalsmithing techniques. Over three hours\, participants will form a wide band\, size and shape their spinner bands\, and complete the ring with professional finishing techniques. Rings are created using jewelers brass for the wide band\, with sterling silver or copper spinner accents. A sterling silver wide band upgrade is available at the beginning of class for an additional fee. No prior experience is required\, and each student will leave with a finished ring and practical skills to build on. \n\n\n\nWhat’s included\n\n• Jewelers brass for one wide band\n• Sterling silver or copper spinner wire\n• Use of all tools and equipment\n• Guided instruction\n• Studio supplies and finishing materials \n\n\n\nWhat’s not included\n\n\nMeals or beverages \n\n\nSterling silver wide band upgrade ($40\, optional) \n\n\nAdditional materials for extra rings \n\n\n\n\nItinerary\n\nIntroduction to tools\, materials\, and safety \nMeasuring and forming the wide band \nSizing and shaping spinner bands \nSoldering and assembly \nFiling\, sanding\, and polishing to finish \n\n\n\nHighlights\n\nCreate a dynamic\, wearable ring that moves with you. \nLearn essential silversmithing skills that form the foundation for future jewelry work. \nWork with quality metals including jewelers brass and sterling silver accents. \nLeave with a finished spinner ring that reflects your craftsmanship and personal style. \n\n\n\n\n\n\n\n\nTo Register and see all the classes clicking here 
URL:https://grandlakecreativedistrict.org/event/spinner-ring/2026-05-30/
LOCATION:Rocky Mountain Folk School Building\, 315 Pitkin Ave\, Grand Lake\, CO\, 80447\, United States
CATEGORIES:Featured Art Workshops,Rocky Mountain Folk School
ATTACH;FMTTYPE=image/jpeg:https://grandlakecreativedistrict.org/wp-content/uploads/2026/02/spinners4.jpeg
ORGANIZER;CN="Rocky Mountain Folk School":MAILTO:rockymountainfolkschool@gmail.com
END:VEVENT
END:VCALENDAR