BEGIN:VCALENDAR
VERSION:2.0
PRODID:-//Grand Lake Creative District - ECPv6.15.20//NONSGML v1.0//EN
CALSCALE:GREGORIAN
METHOD:PUBLISH
X-ORIGINAL-URL:https://grandlakecreativedistrict.org
X-WR-CALDESC:Events for Grand Lake Creative District
REFRESH-INTERVAL;VALUE=DURATION:PT1H
X-Robots-Tag:noindex
X-PUBLISHED-TTL:PT1H
BEGIN:VTIMEZONE
TZID:UTC
BEGIN:STANDARD
TZOFFSETFROM:+0000
TZOFFSETTO:+0000
TZNAME:UTC
DTSTART:20250101T000000
END:STANDARD
END:VTIMEZONE
BEGIN:VTIMEZONE
TZID:America/Denver
BEGIN:DAYLIGHT
TZOFFSETFROM:-0700
TZOFFSETTO:-0600
TZNAME:MDT
DTSTART:20250309T090000
END:DAYLIGHT
BEGIN:STANDARD
TZOFFSETFROM:-0600
TZOFFSETTO:-0700
TZNAME:MST
DTSTART:20251102T080000
END:STANDARD
BEGIN:DAYLIGHT
TZOFFSETFROM:-0700
TZOFFSETTO:-0600
TZNAME:MDT
DTSTART:20260308T090000
END:DAYLIGHT
BEGIN:STANDARD
TZOFFSETFROM:-0600
TZOFFSETTO:-0700
TZNAME:MST
DTSTART:20261101T080000
END:STANDARD
BEGIN:DAYLIGHT
TZOFFSETFROM:-0700
TZOFFSETTO:-0600
TZNAME:MDT
DTSTART:20270314T090000
END:DAYLIGHT
BEGIN:STANDARD
TZOFFSETFROM:-0600
TZOFFSETTO:-0700
TZNAME:MST
DTSTART:20271107T080000
END:STANDARD
END:VTIMEZONE
BEGIN:VEVENT
DTSTART;TZID=UTC:20260307T130000
DTEND;TZID=UTC:20260307T170000
DTSTAMP:20260424T151928
CREATED:20251222T120114Z
LAST-MODIFIED:20251222T120114Z
UID:10013387-1772888400-1772902800@grandlakecreativedistrict.org
SUMMARY:Faux Stained Glass: Beginner
DESCRIPTION:Date Options:\nJanuary 24th 2026 1pm – 5pm (Moose)\nFebruary 7th 2026 1pm – 5pm (TBD..valentine special)\nMarch 7th 2026 1pm – 5pm (Western Cow Skull)\nApril 12th 2026 1pm – 5pm (Humming Bird)\nMay 2nd 2026 1pm – 5pm (Dragonfly)\nJune 2nd 2026 1pm – 5pm (Colorado Circle) \nBring color and light into your space with this creative faux stained glass workshop—perfect for a ladies’ night out or a fun get-together with your gal pals. Each month features a new design theme\, giving returning students the chance to try something fresh while building skills over time. Be sure to check the calendar listing to see the featured design for that session. Using an 8×10 glass panel from a frame and Plaid Gallery Glass Window Paint\, you’ll create a vibrant\, decorative piece with guidance and optional templates provided. \nThis welcoming\, hands-on class is suitable for all skill levels and offers a relaxed four-hour block to play with color\, line\, and texture in a cozy\, social setting. Finished pieces need a couple of days to fully dry before pickup\, making them perfect for gifting or adding a handmade touch to your home. \n\n\n\nWhat’s included\n\n*8×10 inch glass panel from a frame\n*Glass Window Paint\n*Templates for the monthly design\n*Step-by-step guidance from the instructor\n*All necessary tools and materials for painting\n*A relaxing\, hands-on creative experience \n\n\n\nWhat’s not included\n\nShipping fees\, if you choose to have your finished piece shipped \n\n\n\nREGISTER NOW
URL:https://grandlakecreativedistrict.org/event/faux-stained-glass/2026-03-07/
LOCATION:Rocky Mountain Folk School\, 315 Pitkin St\, Grand Lake (Grand County)\, CO\, 80447\, United States
CATEGORIES:Featured Art Workshops,Rocky Mountain Folk School
ATTACH;FMTTYPE=image/jpeg:https://grandlakecreativedistrict.org/wp-content/uploads/2025/12/IMG_4637-1-scaled.jpeg
ORGANIZER;CN="Rocky Mountain Folk School":MAILTO:rockymountainfolkschool@gmail.com
END:VEVENT
BEGIN:VEVENT
DTSTART;TZID=UTC:20260314T120000
DTEND;TZID=UTC:20260314T150000
DTSTAMP:20260424T151928
CREATED:20251226T163922Z
LAST-MODIFIED:20260416T212900Z
UID:10013395-1773489600-1773500400@grandlakecreativedistrict.org
SUMMARY:Silversmithing: Sterling Silver Ring with Stone
DESCRIPTION:In this beginner-friendly silversmithing class\, students will learn foundational metalsmithing techniques while creating a sterling silver ring set with a stone. Participants will be guided step by step through the process\, from forming and sizing a ring band to setting a stone and finishing their piece. A selection of stones is included for students to choose from\, with optional premium stone upgrades available for purchase directly from the instructor. No prior experience is required\, and students will leave with a handcrafted sterling silver ring and a solid introduction to essential silversmithing skills they can continue to build on. \n\n\n\nWhat’s included\n\nSterling silver for one ring \nSelection of stones to choose from \n\nUse of silversmithing tools and equipment\nStep-by-step instruction from the instructor\nTake-home finished sterling silver bracelet\n\n\n\n\nWhat’s not included\n\nOptional stone upgrades available for purchase directly from the instructor. \n\n\nTo Register and see all the classes clicking here 
URL:https://grandlakecreativedistrict.org/event/sterling-silver/2026-03-14/
LOCATION:Rocky Mountain Folk School Building\, 315 Pitkin Ave\, Grand Lake\, CO\, 80447\, United States
CATEGORIES:Featured Art Workshops,Rocky Mountain Folk School
ATTACH;FMTTYPE=image/jpeg:https://grandlakecreativedistrict.org/wp-content/uploads/2025/12/IMG_4074-scaled.jpeg
ORGANIZER;CN="Rocky Mountain Folk School":MAILTO:rockymountainfolkschool@gmail.com
END:VEVENT
BEGIN:VEVENT
DTSTART;TZID=UTC:20260315T090000
DTEND;TZID=UTC:20260315T120000
DTSTAMP:20260424T151928
CREATED:20251228T125744Z
LAST-MODIFIED:20260416T142946Z
UID:10013431-1773565200-1773576000@grandlakecreativedistrict.org
SUMMARY:Silversmithing: Stacking Rings
DESCRIPTION:In this beginner-friendly silversmithing class\, students will learn foundational metalsmithing techniques while creating a set of sterling silver stacking rings. Participants will be guided step by step through the process\, from forming and sizing 3 ring bands to texturing and finishing their unique set of stacking rings. No prior experience is required\, and students will leave with a set of handcrafted sterling silver stacking rings and a solid introduction to essential silversmithing skills they can continue to build on. \n\n\n\nWhat’s included\n\n\nAll sterling silver materials for three stacking rings\nUse of silversmithing tools and equipment during class\nStep-by-step instruction from an experienced instructor\nTexturing and finishing supplies\nTake-home set of handcrafted sterling silver stacking rings\n\n\n\n\n\n\n\nTo Register and see all the classes clicking here 
URL:https://grandlakecreativedistrict.org/event/stacking-rings/2026-03-15/
LOCATION:Rocky Mountain Folk School Building\, 315 Pitkin Ave\, Grand Lake\, CO\, 80447\, United States
CATEGORIES:Featured Art Workshops,Rocky Mountain Folk School
ATTACH;FMTTYPE=image/jpeg:https://grandlakecreativedistrict.org/wp-content/uploads/2025/12/Stackable-Finger-Trinkets.jpg
ORGANIZER;CN="Rocky Mountain Folk School":MAILTO:rockymountainfolkschool@gmail.com
END:VEVENT
BEGIN:VEVENT
DTSTART;TZID=UTC:20260321T120000
DTEND;TZID=UTC:20260321T150000
DTSTAMP:20260424T151928
CREATED:20260213T132119Z
LAST-MODIFIED:20260416T142850Z
UID:10016473-1774094400-1774105200@grandlakecreativedistrict.org
SUMMARY:Silversmithing: Spinner Ring
DESCRIPTION:In this beginner-friendly silversmithing workshop\, students will create a handcrafted spinner ring while learning foundational metalsmithing techniques. Over three hours\, participants will form a wide band\, size and shape their spinner bands\, and complete the ring with professional finishing techniques. Rings are created using jewelers brass for the wide band\, with sterling silver or copper spinner accents. A sterling silver wide band upgrade is available at the beginning of class for an additional fee. No prior experience is required\, and each student will leave with a finished ring and practical skills to build on. \n\n\n\nWhat’s included\n\n• Jewelers brass for one wide band\n• Sterling silver or copper spinner wire\n• Use of all tools and equipment\n• Guided instruction\n• Studio supplies and finishing materials \n\n\n\nWhat’s not included\n\n\nMeals or beverages \n\n\nSterling silver wide band upgrade ($40\, optional) \n\n\nAdditional materials for extra rings \n\n\n\n\nItinerary\n\nIntroduction to tools\, materials\, and safety \nMeasuring and forming the wide band \nSizing and shaping spinner bands \nSoldering and assembly \nFiling\, sanding\, and polishing to finish \n\n\n\nHighlights\n\nCreate a dynamic\, wearable ring that moves with you. \nLearn essential silversmithing skills that form the foundation for future jewelry work. \nWork with quality metals including jewelers brass and sterling silver accents. \nLeave with a finished spinner ring that reflects your craftsmanship and personal style. \n\n\n\n\n\n\n\n\nTo Register and see all the classes clicking here 
URL:https://grandlakecreativedistrict.org/event/spinner-ring/2026-03-21/
LOCATION:Rocky Mountain Folk School Building\, 315 Pitkin Ave\, Grand Lake\, CO\, 80447\, United States
CATEGORIES:Featured Art Workshops,Rocky Mountain Folk School
ATTACH;FMTTYPE=image/jpeg:https://grandlakecreativedistrict.org/wp-content/uploads/2026/02/spinners4.jpeg
ORGANIZER;CN="Rocky Mountain Folk School":MAILTO:rockymountainfolkschool@gmail.com
END:VEVENT
BEGIN:VEVENT
DTSTART;TZID=UTC:20260322T120000
DTEND;TZID=UTC:20260322T150000
DTSTAMP:20260424T151928
CREATED:20251226T190429Z
LAST-MODIFIED:20260415T194950Z
UID:10013407-1774180800-1774191600@grandlakecreativedistrict.org
SUMMARY:Silversmithing: Sterling Silver Bracelet with Stone
DESCRIPTION:In this beginner-friendly silversmithing class\, students will learn foundational metalsmithing techniques while creating a sterling silver bracelet set with a stone. Participants will be guided step by step through the process\, from shaping and forming silver to setting a stone and finishing their piece. A selection of stones is included for students to choose from\, and those interested may upgrade to a premium stone available for purchase directly from the instructor. No prior experience is required\, and students will leave with a handcrafted bracelet and a solid introduction to silversmithing skills they can build on in future classes. \n\n\n\nWhat’s included\n\nSterling silver for one bracelet \nSelection of stones to choose from \n\nUse of silversmithing tools and equipment\nStep-by-step instruction from the instructor\nTake-home finished sterling silver bracelet\n\n\n\n\nWhat’s not included\n\nOptional stone upgrades available for purchase directly from the instructor. \n\n\n\n\nTo Register and see all the classes clicking here 
URL:https://grandlakecreativedistrict.org/event/sterling-silver-2/2026-03-22/
LOCATION:Rocky Mountain Folk School Building\, 315 Pitkin Ave\, Grand Lake\, CO\, 80447\, United States
CATEGORIES:Featured Art Workshops,Rocky Mountain Folk School
ATTACH;FMTTYPE=image/jpeg:https://grandlakecreativedistrict.org/wp-content/uploads/2025/12/IMG_4052.jpeg
ORGANIZER;CN="Rocky Mountain Folk School":MAILTO:rockymountainfolkschool@gmail.com
END:VEVENT
BEGIN:VEVENT
DTSTART;TZID=UTC:20260327T120000
DTEND;TZID=UTC:20260327T150000
DTSTAMP:20260424T151928
CREATED:20251228T125134Z
LAST-MODIFIED:20260416T142729Z
UID:10013419-1774612800-1774623600@grandlakecreativedistrict.org
SUMMARY:Silversmithing: Hammered Hoop
DESCRIPTION:In this beginner-friendly silversmithing class\, students will learn foundational metalsmithing techniques while creating a pair of hammered hoops. Participants will be guided step-by-step through the process\, from forming\, texturing\, and finishing their unique\, one-of-a-kind pair of earrings. Students may choose from copper\, jeweler’s brass\, or sterling silver. No prior experience is required\, and students will leave with a pair of handcrafted hoops and a solid introduction to essential silversmithing skills they can continue to build upon. \n\n\n\nWhat’s included\n\n*All materials for one pair of hoop earrings (copper\, jeweler’s brass\, or sterling silver) \n\nUse of silversmithing tools and equipment during class\nStep-by-step instruction from an experienced instructor\nTexturing and finishing supplies\nTake-home pair of handcrafted hammered hoop earrings\n\n\n\n\n\nTo Register and see all the classes clicking here 
URL:https://grandlakecreativedistrict.org/event/hammered-hoops/2026-03-27/
LOCATION:Rocky Mountain Folk School Building\, 315 Pitkin Ave\, Grand Lake\, CO\, 80447\, United States
CATEGORIES:Featured Art Workshops,Rocky Mountain Folk School
ATTACH;FMTTYPE=image/jpeg:https://grandlakecreativedistrict.org/wp-content/uploads/2025/12/IMG_3181-scaled.jpg
ORGANIZER;CN="Rocky Mountain Folk School":MAILTO:rockymountainfolkschool@gmail.com
END:VEVENT
BEGIN:VEVENT
DTSTART;TZID=America/Denver:20260328T130000
DTEND;TZID=America/Denver:20260328T143000
DTSTAMP:20260424T151928
CREATED:20260221T170533Z
LAST-MODIFIED:20260221T170533Z
UID:10016504-1774702800-1774708200@grandlakecreativedistrict.org
SUMMARY:Wood Burning: Craft Your Own Functional Wood Art
DESCRIPTION:  \n\n\nActivity details\n\n\nExplore the art of pyrography in an engaging 1.5-hour indoor workshop designed for adults. An instructor-led session covers fundamentals like temperature control\, burning techniques\, shading\, and texture while providing guided hands-on practice. Choose a project—live-edge slab\, wooden coasters\, or a bottle opener—and personalize it with provided stencils or your own design. Participants finish their piece with an all-natural\, food-safe tung oil seal\, leaving with a ready-to-display or giftable work created during the class.\n\n\n\n\nWhat’s included\n\n\nGuided instruction on burning techniques\, temperature control\, shading\, and texture \n\n\nChoice of project: 9×12 live-edge wood slab\, set of four wooden coasters\, or a bottle opener \n\n\nProvided stencils and option to use your own design \n\n\nAll materials needed to complete the project \n\n\nFinished piece sealed in food-safe\, all-natural tung oil \n\n\n\n\nWhat’s not included\n\n\nAdditional wood surfaces beyond your selected project \n\n\nBeverages (please bring your own non-alcoholic drink) \n\n\n\n\nSIGN UP
URL:https://grandlakecreativedistrict.org/event/wood-burning-2/
LOCATION:Rocky Mountain Folk School Building\, 315 Pitkin Ave\, Grand Lake\, CO\, 80447\, United States
CATEGORIES:Featured Art Workshops,Rocky Mountain Folk School
ATTACH;FMTTYPE=image/jpeg:https://grandlakecreativedistrict.org/wp-content/uploads/2026/02/Moose.jpg
ORGANIZER;CN="Rocky Mountain Folk School":MAILTO:rockymountainfolkschool@gmail.com
END:VEVENT
BEGIN:VEVENT
DTSTART;TZID=UTC:20260329T090000
DTEND;TZID=UTC:20260329T120000
DTSTAMP:20260424T151928
CREATED:20260213T132648Z
LAST-MODIFIED:20260416T142527Z
UID:10016487-1774774800-1774785600@grandlakecreativedistrict.org
SUMMARY:Silversmithing: Bold Brass Hoops
DESCRIPTION:In this beginner-friendly jewelry workshop\, students will learn foundational metalsmithing techniques while creating a bold pair of brass hoop earrings with sterling silver posts. Over the course of three hours\, participants are guided step by step through sizing\, stamping\, forming\, soldering\, and finishing their own unique design. No prior experience is required. By the end of class\, each student will leave with a handcrafted pair of brass hoops and a strong introduction to essential silversmithing skills they can continue to build on. \n\n\n\nWhat’s included\n\n• Jewelers brass for one pair of hoops\n• Sterling silver earring posts\n• All tools and equipment\n• Guided instruction\n• Use of studio supplies during class \n\n\n\n\n\n\n\n\nTo Register and see all the classes clicking here 
URL:https://grandlakecreativedistrict.org/event/bold-hoops/2026-03-29/
LOCATION:Rocky Mountain Folk School Building\, 315 Pitkin Ave\, Grand Lake\, CO\, 80447\, United States
CATEGORIES:Featured Art Workshops,Rocky Mountain Folk School
ATTACH;FMTTYPE=image/jpeg:https://grandlakecreativedistrict.org/wp-content/uploads/2026/02/bigbrasshoops5-scaled.jpeg
ORGANIZER;CN="Rocky Mountain Folk School":MAILTO:rockymountainfolkschool@gmail.com
END:VEVENT
END:VCALENDAR