BEGIN:VCALENDAR
VERSION:2.0
PRODID:-//Grand Lake Creative District - ECPv6.15.20//NONSGML v1.0//EN
CALSCALE:GREGORIAN
METHOD:PUBLISH
X-WR-CALNAME:Grand Lake Creative District
X-ORIGINAL-URL:https://grandlakecreativedistrict.org
X-WR-CALDESC:Events for Grand Lake Creative District
REFRESH-INTERVAL;VALUE=DURATION:PT1H
X-Robots-Tag:noindex
X-PUBLISHED-TTL:PT1H
BEGIN:VTIMEZONE
TZID:UTC
BEGIN:STANDARD
TZOFFSETFROM:+0000
TZOFFSETTO:+0000
TZNAME:UTC
DTSTART:20250101T000000
END:STANDARD
END:VTIMEZONE
BEGIN:VEVENT
DTSTART;TZID=UTC:20260417T083000
DTEND;TZID=UTC:20260417T160000
DTSTAMP:20260424T214859
CREATED:20260307T171036Z
LAST-MODIFIED:20260310T215745Z
UID:10016506-1776414600-1776441600@grandlakecreativedistrict.org
SUMMARY:Woodturning Workshop for Beginners
DESCRIPTION:Wood Turning\n\n\n\n\nDate: April 17th 8:30am – 4pm\nPrice: $109.18\nReady to create something beautiful with your own two hands? Step up to the lathe and explore the timeless\, meditative art of woodturning at the Rocky Mountain Folk School. \nIn this one-day beginner workshop\, you’ll learn the fundamentals of woodturning under the guidance of master woodworker Dennis Fanning\, who brings more than 30 years of experience to the craft. The focus of the class will be developing basic tool control while working on several practical projects at the lathe. \nStudents will create items such as a rolling pin\, spatula\, and spoons while learning how to shape wood safely and confidently. You’ll also have the opportunity to decorate your finished pieces using a wood burner\, adding your own personal design to the items you take home. \nWhat’s IncludedAll materials included \nWhat’s Not IncludedLunch & Drinks \n\n\n\nTo find out more are to register go to https://rockymountainfolkschool.org/classes
URL:https://grandlakecreativedistrict.org/event/woodturning-4/
LOCATION:CO
CATEGORIES:Arts and Crafts,Featured Art Workshops,Rocky Mountain Folk School
ATTACH;FMTTYPE=image/jpeg:https://grandlakecreativedistrict.org/wp-content/uploads/2024/01/IMG_9022-scaled.jpg
ORGANIZER;CN="Rocky Mountain Folk School":MAILTO:rockymountainfolkschool@gmail.com
END:VEVENT
END:VCALENDAR