BEGIN:VCALENDAR
VERSION:2.0
PRODID:-//Grand Lake Creative District - ECPv6.15.20//NONSGML v1.0//EN
CALSCALE:GREGORIAN
METHOD:PUBLISH
X-WR-CALNAME:Grand Lake Creative District
X-ORIGINAL-URL:https://grandlakecreativedistrict.org
X-WR-CALDESC:Events for Grand Lake Creative District
REFRESH-INTERVAL;VALUE=DURATION:PT1H
X-Robots-Tag:noindex
X-PUBLISHED-TTL:PT1H
BEGIN:VTIMEZONE
TZID:America/Denver
BEGIN:DAYLIGHT
TZOFFSETFROM:-0700
TZOFFSETTO:-0600
TZNAME:MDT
DTSTART:20250309T090000
END:DAYLIGHT
BEGIN:STANDARD
TZOFFSETFROM:-0600
TZOFFSETTO:-0700
TZNAME:MST
DTSTART:20251102T080000
END:STANDARD
BEGIN:DAYLIGHT
TZOFFSETFROM:-0700
TZOFFSETTO:-0600
TZNAME:MDT
DTSTART:20260308T090000
END:DAYLIGHT
BEGIN:STANDARD
TZOFFSETFROM:-0600
TZOFFSETTO:-0700
TZNAME:MST
DTSTART:20261101T080000
END:STANDARD
BEGIN:DAYLIGHT
TZOFFSETFROM:-0700
TZOFFSETTO:-0600
TZNAME:MDT
DTSTART:20270314T090000
END:DAYLIGHT
BEGIN:STANDARD
TZOFFSETFROM:-0600
TZOFFSETTO:-0700
TZNAME:MST
DTSTART:20271107T080000
END:STANDARD
END:VTIMEZONE
BEGIN:VEVENT
DTSTART;TZID=America/Denver:20260405T120000
DTEND;TZID=America/Denver:20260405T140000
DTSTAMP:20260424T183921
CREATED:20260321T185626Z
LAST-MODIFIED:20260321T185626Z
UID:10016521-1775390400-1775397600@grandlakecreativedistrict.org
SUMMARY:Glasswork: Mosaic Pendant Necklaces
DESCRIPTION:In this creative\, hands-on workshop\, participants will explore the art of mosaic using glass to design two pendant necklaces. Students will select from a variety of glass pieces and bevels\, then learn how to arrange\, adhere\, and grout their designs for a polished finish. With guided instruction and time for individual creativity\, this class offers a relaxed and rewarding introduction to mosaic techniques. Each participant will leave with two completed\, wearable pendants and the skills to continue exploring mosaic art. \n\n\n\nWhat’s included\n\n• Glass pieces and bevels for two pendants\n• Adhesives\, grout\, and all mosaic materials\n• Use of tools and workspace\n• Guided instruction \n\n\n\nWhat’s not included\n\n\nMeals or beverages \n\n\nAdditional materials for extra products
URL:https://grandlakecreativedistrict.org/event/mosaic-pendant/2026-04-05/
LOCATION:Rocky Mountain Folk School\, 315 Pitkin St\, Grand Lake (Grand County)\, CO\, 80447\, United States
CATEGORIES:Arts and Crafts,Rocky Mountain Folk School
ATTACH;FMTTYPE=image/jpeg:https://grandlakecreativedistrict.org/wp-content/uploads/2026/03/D71AC97C-A93B-4F49-A8A9-ECBDF99B739D.jpg
ORGANIZER;CN="Rocky Mountain Folk School":MAILTO:rockymountainfolkschool@gmail.com
END:VEVENT
END:VCALENDAR