BEGIN:VCALENDAR
VERSION:2.0
PRODID:-//Grand Lake Creative District - ECPv6.15.20//NONSGML v1.0//EN
CALSCALE:GREGORIAN
METHOD:PUBLISH
X-ORIGINAL-URL:https://grandlakecreativedistrict.org
X-WR-CALDESC:Events for Grand Lake Creative District
REFRESH-INTERVAL;VALUE=DURATION:PT1H
X-Robots-Tag:noindex
X-PUBLISHED-TTL:PT1H
BEGIN:VTIMEZONE
TZID:UTC
BEGIN:STANDARD
TZOFFSETFROM:+0000
TZOFFSETTO:+0000
TZNAME:UTC
DTSTART:20250101T000000
END:STANDARD
END:VTIMEZONE
BEGIN:VTIMEZONE
TZID:America/Denver
BEGIN:DAYLIGHT
TZOFFSETFROM:-0700
TZOFFSETTO:-0600
TZNAME:MDT
DTSTART:20250309T090000
END:DAYLIGHT
BEGIN:STANDARD
TZOFFSETFROM:-0600
TZOFFSETTO:-0700
TZNAME:MST
DTSTART:20251102T080000
END:STANDARD
BEGIN:DAYLIGHT
TZOFFSETFROM:-0700
TZOFFSETTO:-0600
TZNAME:MDT
DTSTART:20260308T090000
END:DAYLIGHT
BEGIN:STANDARD
TZOFFSETFROM:-0600
TZOFFSETTO:-0700
TZNAME:MST
DTSTART:20261101T080000
END:STANDARD
BEGIN:DAYLIGHT
TZOFFSETFROM:-0700
TZOFFSETTO:-0600
TZNAME:MDT
DTSTART:20270314T090000
END:DAYLIGHT
BEGIN:STANDARD
TZOFFSETFROM:-0600
TZOFFSETTO:-0700
TZNAME:MST
DTSTART:20271107T080000
END:STANDARD
END:VTIMEZONE
BEGIN:VEVENT
DTSTART;TZID=UTC:20260523T100000
DTEND;TZID=UTC:20260523T130000
DTSTAMP:20260424T214110
CREATED:20251226T163922Z
LAST-MODIFIED:20260416T212900Z
UID:10016561-1779530400-1779541200@grandlakecreativedistrict.org
SUMMARY:Silversmithing: Sterling Silver Ring with Stone
DESCRIPTION:In this beginner-friendly silversmithing class\, students will learn foundational metalsmithing techniques while creating a sterling silver ring set with a stone. Participants will be guided step by step through the process\, from forming and sizing a ring band to setting a stone and finishing their piece. A selection of stones is included for students to choose from\, with optional premium stone upgrades available for purchase directly from the instructor. No prior experience is required\, and students will leave with a handcrafted sterling silver ring and a solid introduction to essential silversmithing skills they can continue to build on. \n\n\n\nWhat’s included\n\nSterling silver for one ring \nSelection of stones to choose from \n\nUse of silversmithing tools and equipment\nStep-by-step instruction from the instructor\nTake-home finished sterling silver bracelet\n\n\n\n\nWhat’s not included\n\nOptional stone upgrades available for purchase directly from the instructor. \n\n\nTo Register and see all the classes clicking here 
URL:https://grandlakecreativedistrict.org/event/sterling-silver/2026-05-23/
LOCATION:Rocky Mountain Folk School Building\, 315 Pitkin Ave\, Grand Lake\, CO\, 80447\, United States
CATEGORIES:Featured Art Workshops,Rocky Mountain Folk School
ATTACH;FMTTYPE=image/jpeg:https://grandlakecreativedistrict.org/wp-content/uploads/2025/12/IMG_4074-scaled.jpeg
ORGANIZER;CN="Rocky Mountain Folk School":MAILTO:rockymountainfolkschool@gmail.com
END:VEVENT
BEGIN:VEVENT
DTSTART;TZID=America/Denver:20260523T120000
DTEND;TZID=America/Denver:20260523T140000
DTSTAMP:20260424T214110
CREATED:20260409T151757Z
LAST-MODIFIED:20260409T151758Z
UID:10016548-1779537600-1779544800@grandlakecreativedistrict.org
SUMMARY:Grand Opening of the NEW Grand Spirit Makerspace
DESCRIPTION:Save the Date: May 23\, 12-2PM\nGrand Opening of the NEW Grand Spirit Makerspace \nWhen: Saturday\, May 23\nTime: Noon-2pm (ribbon-cutting ceremony at 1pm)\nLocation: Rocky Mountain Folk School\, Grand Spirit Makerspace\n1128 Park Ave\, Unit A\, Grand Lake\, CO \nMark your calendar for the official opening of the Grand Spirit Makerspace\, the Rocky Mountain Folk School’s newest creative venture. A place where anyone (beginners\, hobbyists\, ranchers and visiting learners) will be able to access the tools and instruction they need for woodworking\, leatherworking\, silversmithing\, and boat building.  \nStarting at noon\, we will be opening our doors to the public. Come see the interior and exterior spaces\, enjoy a light lunch\, and celebrate those who donated their financial support\, expertise and vision to the endeavor. And don’t miss the ribbon-cutting ceremony at 1pm\, where we will have town officials and project leaders officially dedicate the building. \nWe hope to be able to celebrate this exciting milestone with you. \nGillian Horne\, Executive Director of the Rocky Mountain Folk School\nAlan Walker\, DiAnn Butler\, Jim Brainard\, and Carla Mead\nBoard of Directors\, Rocky Mountain Folk School \nP.S. Can’t make it but still want to make a difference? Consider donating to the school’s Equip Our New Makerspace campaign so we can have all the tools and equipment needed for our summer and fall curriculum. Click here to donate: https://www.zeffy.com/en-US/donation-form/equip-our-new-maker-space
URL:https://grandlakecreativedistrict.org/event/grand-opening/
LOCATION:Grand Spirit Makerspace\, 1128 Park Ave\, GRAND LAKE\, CO\, 80447\, United States
CATEGORIES:Arts and Crafts,Featured Art Workshops,Rocky Mountain Folk School
ATTACH;FMTTYPE=image/jpeg:https://grandlakecreativedistrict.org/wp-content/uploads/2026/04/IMG_6163-1-scaled.jpg
ORGANIZER;CN="Rocky Mountain Folk School":MAILTO:rockymountainfolkschool@gmail.com
END:VEVENT
BEGIN:VEVENT
DTSTART;TZID=UTC:20260523T170000
DTEND;TZID=UTC:20260523T200000
DTSTAMP:20260424T214110
CREATED:20250730T140618Z
LAST-MODIFIED:20260416T142358Z
UID:10013645-1779555600-1779566400@grandlakecreativedistrict.org
SUMMARY:Leather Belt Making Workshop
DESCRIPTION:Date: CALL 970-531-1395 to request a date\nCost: $135 (materials are included..1 day class)\nLevel/Age: All Experience Levels\nInstructor: Isaac Baugher\nLocation: RMFS Building – 315 Pitkin Ave\, Grand Lake\, CO \nCreate a custom leather belt from start to finish in this hands-on 2.5-hour workshop! You’ll learn the basics of leather tooling and construction as you craft a belt that fits your style and size. The design and carving are entirely up to you—whether it’s your initials\, a western motif\, or a freeform pattern\, this is your chance to make something uniquely yours. Walk away with a belt that’s not only functional but a piece of wearable art. \nThis class is perfect for beginners and experienced leatherworkers alike\, as Isaac will guide you through every step\, from tooling techniques to the final assembly. All materials needed to complete your belt are included in the course. \nDon’t miss this opportunity to make something special with your own hands! \nREGISTER
URL:https://grandlakecreativedistrict.org/event/leather-belt/2026-05-23/
LOCATION:Rocky Mountain Folk School\, 315 Pitkin St\, Grand Lake (Grand County)\, CO\, 80447\, United States
CATEGORIES:Rocky Mountain Folk School
ATTACH;FMTTYPE=image/jpeg:https://grandlakecreativedistrict.org/wp-content/uploads/2025/07/GrandLake_JuniperLibraryLeatherWorkshop_Lumenati_Spring2025_5-scaled.jpg
ORGANIZER;CN="Rocky Mountain Folk School":MAILTO:rockymountainfolkschool@gmail.com
END:VEVENT
BEGIN:VEVENT
DTSTART;TZID=UTC:20260523T190000
DTEND;TZID=UTC:20260523T220000
DTSTAMP:20260424T214110
CREATED:20260131T211336Z
LAST-MODIFIED:20260131T211336Z
UID:10013536-1779562800-1779573600@grandlakecreativedistrict.org
SUMMARY:Comedy Night in the House
DESCRIPTION:At: Grand Lake Community House 1025 Grand Ave.\n\nOur next Comedy Night in the House is the perfec kick-off to the summer season in Grand Lake. \nDirect from Comedy Works in Denver\, Saturday\, May 23\, at 7:00 pm. \nOur comedians will be announced soon; stay tuned! \nWe don’t issue tickets\, but we have your name from PayPal or the Grand Lake RE/MAX office. \nAlcoholic and non-alcoholic beverages will be available at both shows. \nSeating is first come\, first seated. Doors open 30 minutes before show time. \n\nTo secure your spot\, register now at grandartscouncil.org/events. Don’t miss out on this fantastic holiday entertainment in the heart of Grand Lake!
URL:https://grandlakecreativedistrict.org/event/comedy-night-5/
LOCATION:Grand Lake Community House\, 1026 Park Avenue\, Grand Lake\, 80447\, United States
CATEGORIES:Grand Arts Council Events,Performing Arts Events
ATTACH;FMTTYPE=image/jpeg:https://grandlakecreativedistrict.org/wp-content/uploads/2023/12/23_ComedyNight_Square-scaled.jpg
ORGANIZER;CN="Grand Arts Council":MAILTO:Grand.Arts.Council@gmail.com
END:VEVENT
BEGIN:VEVENT
DTSTART;TZID=UTC:20260523T220000
DTEND;TZID=UTC:20260523T230000
DTSTAMP:20260424T214110
CREATED:20240619T151614Z
LAST-MODIFIED:20260105T202227Z
UID:10011782-1779573600-1779577200@grandlakecreativedistrict.org
SUMMARY:Glass Fusing Classes
DESCRIPTION:Discover the art of glass fusing with a series of workshops at the Rocky Mountain Folk School. From beginner-friendly projects to advanced techniques\, these classes offer something for every level of creativity. \n• Glass Fusing for Beginners – Learn the fundamentals while creating your own unique glass piece.\n• Glass Fusion for Two – Spend a fun evening side by side designing your own fused glass pieces in this date night class.\n• Watercolor Technique – An intermediate workshop exploring painterly effects in glass.• Butterfly Vase – Design a sculptural vase through a two-step kiln process. \nAll classes are taught by glass artist Linda Dewey at Lonesome Stone Pottery in Granby. Dates are flexible. Please visit the registration site for details\, pricing\, and to sign up. \nRegister by going to  https://rockymountainfolkschool.org/classes/
URL:https://grandlakecreativedistrict.org/event/glass-fusing/2026-05-23/
LOCATION:Lonesome Stone Pottery\, 946 Co Rd 60\, Granby\, 80446\, United States
CATEGORIES:Rocky Mountain Folk School
ATTACH;FMTTYPE=image/jpeg:https://grandlakecreativedistrict.org/wp-content/uploads/2024/06/IMG_1046_edited-scaled.jpg
ORGANIZER;CN="Rocky Mountain Folk School":MAILTO:rockymountainfolkschool@gmail.com
END:VEVENT
END:VCALENDAR