BEGIN:VCALENDAR
VERSION:2.0
PRODID:-//Grand Lake Creative District - ECPv6.15.20//NONSGML v1.0//EN
CALSCALE:GREGORIAN
METHOD:PUBLISH
X-WR-CALNAME:Grand Lake Creative District
X-ORIGINAL-URL:https://grandlakecreativedistrict.org
X-WR-CALDESC:Events for Grand Lake Creative District
REFRESH-INTERVAL;VALUE=DURATION:PT1H
X-Robots-Tag:noindex
X-PUBLISHED-TTL:PT1H
BEGIN:VTIMEZONE
TZID:UTC
BEGIN:STANDARD
TZOFFSETFROM:+0000
TZOFFSETTO:+0000
TZNAME:UTC
DTSTART:20250101T000000
END:STANDARD
END:VTIMEZONE
BEGIN:VEVENT
DTSTART;TZID=UTC:20260418T100000
DTEND;TZID=UTC:20260418T130000
DTSTAMP:20260424T183122
CREATED:20251228T125134Z
LAST-MODIFIED:20260416T142729Z
UID:10016557-1776506400-1776517200@grandlakecreativedistrict.org
SUMMARY:Silversmithing: Hammered Hoop
DESCRIPTION:In this beginner-friendly silversmithing class\, students will learn foundational metalsmithing techniques while creating a pair of hammered hoops. Participants will be guided step-by-step through the process\, from forming\, texturing\, and finishing their unique\, one-of-a-kind pair of earrings. Students may choose from copper\, jeweler’s brass\, or sterling silver. No prior experience is required\, and students will leave with a pair of handcrafted hoops and a solid introduction to essential silversmithing skills they can continue to build upon. \n\n\n\nWhat’s included\n\n*All materials for one pair of hoop earrings (copper\, jeweler’s brass\, or sterling silver) \n\nUse of silversmithing tools and equipment during class\nStep-by-step instruction from an experienced instructor\nTexturing and finishing supplies\nTake-home pair of handcrafted hammered hoop earrings\n\n\n\n\n\nTo Register and see all the classes clicking here 
URL:https://grandlakecreativedistrict.org/event/hammered-hoops/2026-04-18/
LOCATION:Rocky Mountain Folk School Building\, 315 Pitkin Ave\, Grand Lake\, CO\, 80447\, United States
CATEGORIES:Featured Art Workshops,Rocky Mountain Folk School
ATTACH;FMTTYPE=image/jpeg:https://grandlakecreativedistrict.org/wp-content/uploads/2025/12/IMG_3181-scaled.jpg
ORGANIZER;CN="Rocky Mountain Folk School":MAILTO:rockymountainfolkschool@gmail.com
END:VEVENT
BEGIN:VEVENT
DTSTART;TZID=UTC:20260418T170000
DTEND;TZID=UTC:20260418T200000
DTSTAMP:20260424T183122
CREATED:20250730T140618Z
LAST-MODIFIED:20260416T142358Z
UID:10013625-1776531600-1776542400@grandlakecreativedistrict.org
SUMMARY:Leather Belt Making Workshop
DESCRIPTION:Date: CALL 970-531-1395 to request a date\nCost: $135 (materials are included..1 day class)\nLevel/Age: All Experience Levels\nInstructor: Isaac Baugher\nLocation: RMFS Building – 315 Pitkin Ave\, Grand Lake\, CO \nCreate a custom leather belt from start to finish in this hands-on 2.5-hour workshop! You’ll learn the basics of leather tooling and construction as you craft a belt that fits your style and size. The design and carving are entirely up to you—whether it’s your initials\, a western motif\, or a freeform pattern\, this is your chance to make something uniquely yours. Walk away with a belt that’s not only functional but a piece of wearable art. \nThis class is perfect for beginners and experienced leatherworkers alike\, as Isaac will guide you through every step\, from tooling techniques to the final assembly. All materials needed to complete your belt are included in the course. \nDon’t miss this opportunity to make something special with your own hands! \nREGISTER
URL:https://grandlakecreativedistrict.org/event/leather-belt/2026-04-18/
LOCATION:Rocky Mountain Folk School\, 315 Pitkin St\, Grand Lake (Grand County)\, CO\, 80447\, United States
CATEGORIES:Rocky Mountain Folk School
ATTACH;FMTTYPE=image/jpeg:https://grandlakecreativedistrict.org/wp-content/uploads/2025/07/GrandLake_JuniperLibraryLeatherWorkshop_Lumenati_Spring2025_5-scaled.jpg
ORGANIZER;CN="Rocky Mountain Folk School":MAILTO:rockymountainfolkschool@gmail.com
END:VEVENT
BEGIN:VEVENT
DTSTART;TZID=UTC:20260418T220000
DTEND;TZID=UTC:20260418T230000
DTSTAMP:20260424T183122
CREATED:20240619T151614Z
LAST-MODIFIED:20260105T202227Z
UID:10011752-1776549600-1776553200@grandlakecreativedistrict.org
SUMMARY:Glass Fusing Classes
DESCRIPTION:Discover the art of glass fusing with a series of workshops at the Rocky Mountain Folk School. From beginner-friendly projects to advanced techniques\, these classes offer something for every level of creativity. \n• Glass Fusing for Beginners – Learn the fundamentals while creating your own unique glass piece.\n• Glass Fusion for Two – Spend a fun evening side by side designing your own fused glass pieces in this date night class.\n• Watercolor Technique – An intermediate workshop exploring painterly effects in glass.• Butterfly Vase – Design a sculptural vase through a two-step kiln process. \nAll classes are taught by glass artist Linda Dewey at Lonesome Stone Pottery in Granby. Dates are flexible. Please visit the registration site for details\, pricing\, and to sign up. \nRegister by going to  https://rockymountainfolkschool.org/classes/
URL:https://grandlakecreativedistrict.org/event/glass-fusing/2026-04-18/
LOCATION:Lonesome Stone Pottery\, 946 Co Rd 60\, Granby\, 80446\, United States
CATEGORIES:Rocky Mountain Folk School
ATTACH;FMTTYPE=image/jpeg:https://grandlakecreativedistrict.org/wp-content/uploads/2024/06/IMG_1046_edited-scaled.jpg
ORGANIZER;CN="Rocky Mountain Folk School":MAILTO:rockymountainfolkschool@gmail.com
END:VEVENT
END:VCALENDAR