BEGIN:VCALENDAR
VERSION:2.0
PRODID:-//Grand Lake Creative District - ECPv6.15.20//NONSGML v1.0//EN
CALSCALE:GREGORIAN
METHOD:PUBLISH
X-WR-CALNAME:Grand Lake Creative District
X-ORIGINAL-URL:https://grandlakecreativedistrict.org
X-WR-CALDESC:Events for Grand Lake Creative District
REFRESH-INTERVAL;VALUE=DURATION:PT1H
X-Robots-Tag:noindex
X-PUBLISHED-TTL:PT1H
BEGIN:VTIMEZONE
TZID:UTC
BEGIN:STANDARD
TZOFFSETFROM:+0000
TZOFFSETTO:+0000
TZNAME:UTC
DTSTART:20250101T000000
END:STANDARD
END:VTIMEZONE
BEGIN:VEVENT
DTSTART;TZID=UTC:20260222T090000
DTEND;TZID=UTC:20260222T120000
DTSTAMP:20260424T200929
CREATED:20251226T163922Z
LAST-MODIFIED:20260416T212900Z
UID:10013394-1771750800-1771761600@grandlakecreativedistrict.org
SUMMARY:Silversmithing: Sterling Silver Ring with Stone
DESCRIPTION:In this beginner-friendly silversmithing class\, students will learn foundational metalsmithing techniques while creating a sterling silver ring set with a stone. Participants will be guided step by step through the process\, from forming and sizing a ring band to setting a stone and finishing their piece. A selection of stones is included for students to choose from\, with optional premium stone upgrades available for purchase directly from the instructor. No prior experience is required\, and students will leave with a handcrafted sterling silver ring and a solid introduction to essential silversmithing skills they can continue to build on. \n\n\n\nWhat’s included\n\nSterling silver for one ring \nSelection of stones to choose from \n\nUse of silversmithing tools and equipment\nStep-by-step instruction from the instructor\nTake-home finished sterling silver bracelet\n\n\n\n\nWhat’s not included\n\nOptional stone upgrades available for purchase directly from the instructor. \n\n\nTo Register and see all the classes clicking here 
URL:https://grandlakecreativedistrict.org/event/sterling-silver/2026-02-22/
LOCATION:Rocky Mountain Folk School Building\, 315 Pitkin Ave\, Grand Lake\, CO\, 80447\, United States
CATEGORIES:Featured Art Workshops,Rocky Mountain Folk School
ATTACH;FMTTYPE=image/jpeg:https://grandlakecreativedistrict.org/wp-content/uploads/2025/12/IMG_4074-scaled.jpeg
ORGANIZER;CN="Rocky Mountain Folk School":MAILTO:rockymountainfolkschool@gmail.com
END:VEVENT
BEGIN:VEVENT
DTSTART;TZID=UTC:20260222T170000
DTEND;TZID=UTC:20260222T200000
DTSTAMP:20260424T200929
CREATED:20250730T140618Z
LAST-MODIFIED:20260416T142358Z
UID:10013594-1771779600-1771790400@grandlakecreativedistrict.org
SUMMARY:Leather Belt Making Workshop
DESCRIPTION:Date: CALL 970-531-1395 to request a date\nCost: $135 (materials are included..1 day class)\nLevel/Age: All Experience Levels\nInstructor: Isaac Baugher\nLocation: RMFS Building – 315 Pitkin Ave\, Grand Lake\, CO \nCreate a custom leather belt from start to finish in this hands-on 2.5-hour workshop! You’ll learn the basics of leather tooling and construction as you craft a belt that fits your style and size. The design and carving are entirely up to you—whether it’s your initials\, a western motif\, or a freeform pattern\, this is your chance to make something uniquely yours. Walk away with a belt that’s not only functional but a piece of wearable art. \nThis class is perfect for beginners and experienced leatherworkers alike\, as Isaac will guide you through every step\, from tooling techniques to the final assembly. All materials needed to complete your belt are included in the course. \nDon’t miss this opportunity to make something special with your own hands! \nREGISTER
URL:https://grandlakecreativedistrict.org/event/leather-belt/2026-02-22/
LOCATION:Rocky Mountain Folk School\, 315 Pitkin St\, Grand Lake (Grand County)\, CO\, 80447\, United States
CATEGORIES:Rocky Mountain Folk School
ATTACH;FMTTYPE=image/jpeg:https://grandlakecreativedistrict.org/wp-content/uploads/2025/07/GrandLake_JuniperLibraryLeatherWorkshop_Lumenati_Spring2025_5-scaled.jpg
ORGANIZER;CN="Rocky Mountain Folk School":MAILTO:rockymountainfolkschool@gmail.com
END:VEVENT
BEGIN:VEVENT
DTSTART;TZID=UTC:20260222T173000
DTEND;TZID=UTC:20260222T190000
DTSTAMP:20260424T200929
CREATED:20250407T185453Z
LAST-MODIFIED:20260205T203317Z
UID:10014845-1771781400-1771786800@grandlakecreativedistrict.org
SUMMARY:Leather Tooling for Intermediate
DESCRIPTION:Date: call 9705311395 request date\nCost: $90 (materials are included… MUST have taken the Beginners Tooling Workshop)\nLevel: Intermediate\nInstructor: Isaac Baugher\nLocation: Grand Lake Center: 301 Marina Dr\, Grand Lake\, CO 80447 \nTake your leather tooling skills to the next level with Isaac Baugher in this Intermediate Tooling Workshop! \nIn this two-hour session\, participants will refine the techniques learned in the beginner’s class and apply them to create a beautifully tooled floral design\, ready to display on the wall. This workshop focuses on honing your skills with detailed instruction on advanced tool handling and design techniques. \nThis class is designed for participants who have completed the Beginner’s Tooling course. \nBring your own tools or use the ones provided in class. Join us and elevate your craftsmanship while creating a project you’ll be proud to show off! \n\nREGISTER
URL:https://grandlakecreativedistrict.org/event/leather-tooling-2/2026-02-22/
LOCATION:Grand Lake Community House\, 1026 Park Avenue\, Grand Lake\, 80447\, United States
CATEGORIES:Rocky Mountain Folk School
ATTACH;FMTTYPE=image/jpeg:https://grandlakecreativedistrict.org/wp-content/uploads/2025/02/IMG_5869RMFS.jpg
ORGANIZER;CN="Rocky Mountain Folk School":MAILTO:rockymountainfolkschool@gmail.com
END:VEVENT
BEGIN:VEVENT
DTSTART;TZID=UTC:20260222T173000
DTEND;TZID=UTC:20260222T190000
DTSTAMP:20260424T200929
CREATED:20250407T185633Z
LAST-MODIFIED:20260205T203120Z
UID:10014313-1771781400-1771786800@grandlakecreativedistrict.org
SUMMARY:Leather Tooling for Beginners
DESCRIPTION:Date: CALL 9705311395 TO REQUEST DATE\nCost: $115 (materials are included)\nLevel: All experience levels\nInstructor: Isaac Baugher\nLocation: Grand Lake Center: 301 Marina Dr\, Grand Lake\, CO 80447 \nDiscover the art of leather tooling with Isaac Baugher in this engaging and hands-on class designed for beginners! \nLeather tooling is a creative skill that allows you to customize and decorate leather projects with unique designs. In this one-and-a-half-hour session\, you’ll dive into the basics of using leatherworking tools and techniques to get you started on your tooling journey. \nUnder Isaac’s guidance\, you’ll learn to work with essential tools like the swivel knife\, bevelers\, and shaders while exploring foundational techniques that apply to all styles of leather tooling. Whether you’re brand new to leatherworking or looking to brush up on the basics\, this class is perfect for all skill levels. \nTools will be provided during the class\, but if you have your own\, feel free to bring them along! Come ready to learn\, create\, and be inspired. \nFolk School Site: REGISTER
URL:https://grandlakecreativedistrict.org/event/leather-beginner-2/2026-02-22/
LOCATION:Rocky Mountain Folk School Building\, 315 Pitkin Ave\, Grand Lake\, CO\, 80447\, United States
CATEGORIES:Rocky Mountain Folk School
ATTACH;FMTTYPE=image/jpeg:https://grandlakecreativedistrict.org/wp-content/uploads/2025/01/IMG_5868_rmfs.jpg
ORGANIZER;CN="Rocky Mountain Folk School":MAILTO:rockymountainfolkschool@gmail.com
END:VEVENT
BEGIN:VEVENT
DTSTART;TZID=UTC:20260222T173000
DTEND;TZID=UTC:20260222T190000
DTSTAMP:20260424T200929
CREATED:20250730T140158Z
LAST-MODIFIED:20260416T142620Z
UID:10013781-1771781400-1771786800@grandlakecreativedistrict.org
SUMMARY:Kids Leather Tooling & Bracelet Class
DESCRIPTION:Date: CALL 970-531-1395 TO REQUEST A DATE\nCost: $50 (materials are included..1 day class)\nLevel/Age: All Experience Levels/ 10 and up\nInstructor: Isaac Baugher\nLocation: RMFS Building – 315 Pitkin Ave\, Grand Lake\, CO \nJoin us for a fun and creative 1.5-hour workshop where kids will learn the fundamentals of leather tooling! In this interactive class\, young artists will explore their creativity by designing and crafting their very own leather bracelet. All tools and materials are included. By the end of the class\, students will take home a one-of-a-kind bracelet and their very first tooled leather pieces. This is a hands-on experience that will inspire their creativity and introduce them to the world of leatherworking. \nThis class is perfect for beginners and experienced leatherworkers alike\, as Isaac will guide you through every step\, from tooling techniques to the final assembly. All materials needed to complete your bracelet are included in the course. \nDon’t miss this opportunity to make something special with your own hands! \nREGISTER
URL:https://grandlakecreativedistrict.org/event/kids-leather/2026-02-22/
LOCATION:Rocky Mountain Folk School\, 315 Pitkin St\, Grand Lake (Grand County)\, CO\, 80447\, United States
CATEGORIES:Rocky Mountain Folk School
ATTACH;FMTTYPE=image/jpeg:https://grandlakecreativedistrict.org/wp-content/uploads/2025/07/GrandLake_JuniperLibraryLeatherWorkshop_Lumenati_Spring2025_1-scaled.jpg
ORGANIZER;CN="Rocky Mountain Folk School":MAILTO:rockymountainfolkschool@gmail.com
END:VEVENT
BEGIN:VEVENT
DTSTART;TZID=UTC:20260222T173000
DTEND;TZID=UTC:20260222T200000
DTSTAMP:20260424T200929
CREATED:20250211T194103Z
LAST-MODIFIED:20260205T203502Z
UID:10015377-1771781400-1771790400@grandlakecreativedistrict.org
SUMMARY:Leather Wallet Making Workshop
DESCRIPTION:Date: call 9705311395 to request a date\nCost: $135 (materials are included)\nLevel/Age: All Experience Levels\nInstructor: Isaac Baugher\nLocation: Grand Lake Center: 301 Marina Dr\, Grand Lake\, CO 80447 \nCreate your own handcrafted wallet in this fun and interactive workshop led by Isaac Baugher! \nIn this two-and-a-half-hour session\, you’ll learn to tool and assemble a leather wallet from start to finish. Choose between a roper or bifold style and enjoy hands-on instruction as you craft a functional and stylish piece that’s uniquely yours. \nThis class is perfect for beginners and experienced leatherworkers alike\, as Isaac will guide you through every step\, from tooling techniques to the final assembly. All materials needed to complete your wallet are included in the course. \nDon’t miss this opportunity to make something special with your own hands! \nREGISTER
URL:https://grandlakecreativedistrict.org/event/leather-wallet-making/2026-02-22/
LOCATION:Grand Lake Center Double Room\, 301 Marina Drive\, Grand Lake\, CO\, 80447\, United States
CATEGORIES:Rocky Mountain Folk School
ATTACH;FMTTYPE=image/jpeg:https://grandlakecreativedistrict.org/wp-content/uploads/2025/02/IMG_5832RMFS-1.jpg
ORGANIZER;CN="Rocky Mountain Folk School":MAILTO:rockymountainfolkschool@gmail.com
END:VEVENT
BEGIN:VEVENT
DTSTART;TZID=UTC:20260222T220000
DTEND;TZID=UTC:20260222T230000
DTSTAMP:20260424T200929
CREATED:20240619T151614Z
LAST-MODIFIED:20260105T202227Z
UID:10011705-1771797600-1771801200@grandlakecreativedistrict.org
SUMMARY:Glass Fusing Classes
DESCRIPTION:Discover the art of glass fusing with a series of workshops at the Rocky Mountain Folk School. From beginner-friendly projects to advanced techniques\, these classes offer something for every level of creativity. \n• Glass Fusing for Beginners – Learn the fundamentals while creating your own unique glass piece.\n• Glass Fusion for Two – Spend a fun evening side by side designing your own fused glass pieces in this date night class.\n• Watercolor Technique – An intermediate workshop exploring painterly effects in glass.• Butterfly Vase – Design a sculptural vase through a two-step kiln process. \nAll classes are taught by glass artist Linda Dewey at Lonesome Stone Pottery in Granby. Dates are flexible. Please visit the registration site for details\, pricing\, and to sign up. \nRegister by going to  https://rockymountainfolkschool.org/classes/
URL:https://grandlakecreativedistrict.org/event/glass-fusing/2026-02-22/
LOCATION:Lonesome Stone Pottery\, 946 Co Rd 60\, Granby\, 80446\, United States
CATEGORIES:Rocky Mountain Folk School
ATTACH;FMTTYPE=image/jpeg:https://grandlakecreativedistrict.org/wp-content/uploads/2024/06/IMG_1046_edited-scaled.jpg
ORGANIZER;CN="Rocky Mountain Folk School":MAILTO:rockymountainfolkschool@gmail.com
END:VEVENT
END:VCALENDAR