BEGIN:VCALENDAR
VERSION:2.0
PRODID:-//Grand Lake Creative District - ECPv6.15.20//NONSGML v1.0//EN
CALSCALE:GREGORIAN
METHOD:PUBLISH
X-ORIGINAL-URL:https://grandlakecreativedistrict.org
X-WR-CALDESC:Events for Grand Lake Creative District
REFRESH-INTERVAL;VALUE=DURATION:PT1H
X-Robots-Tag:noindex
X-PUBLISHED-TTL:PT1H
BEGIN:VTIMEZONE
TZID:UTC
BEGIN:STANDARD
TZOFFSETFROM:+0000
TZOFFSETTO:+0000
TZNAME:UTC
DTSTART:20250101T000000
END:STANDARD
END:VTIMEZONE
BEGIN:VEVENT
DTSTART;TZID=UTC:20260219T103000
DTEND;TZID=UTC:20260219T110000
DTSTAMP:20260424T214835
CREATED:20240125T005945Z
LAST-MODIFIED:20240502T162249Z
UID:10000738-1771497000-1771498800@grandlakecreativedistrict.org
SUMMARY:Juniper Library Storytime
DESCRIPTION:Event Details\nJoin Miss Amy for a Valentines themed storytime filled with a fun\, interactive\, early literacy program designed for children under the age of 5 years. Come to socialize\, read books\, sing songs along with fingerplay\, and familiarize your child with the wonderful world of the library! Please call 627-8353 for more information.\nEvent Type(s): Storytime\nAge Group(s): 0-Preschool\nPresenter: Amy Chamberlin\nSue Luton\n(970) 627-8353\njunilib@gcld.org\n\n\n\nFor more information: https://gcldco.evanced.info/Signuphttps://gcldco.evanced.info/signup/EventDetailsEventId=19532&backTo=Calendar&startDate=2024/02/01
URL:https://grandlakecreativedistrict.org/event/storytime-juniper-library/2026-02-19/
LOCATION:Juniper Library\, 316 Garfield St.\, Grand Lake\, 80447
CATEGORIES:Library
ATTACH;FMTTYPE=image/jpeg:https://grandlakecreativedistrict.org/wp-content/uploads/2023/12/IMG_9338_edited-scaled.jpg
END:VEVENT
BEGIN:VEVENT
DTSTART;TZID=UTC:20260219T170000
DTEND;TZID=UTC:20260219T180000
DTSTAMP:20260424T214835
CREATED:20240125T010355Z
LAST-MODIFIED:20240502T162322Z
UID:10001260-1771520400-1771524000@grandlakecreativedistrict.org
SUMMARY:Juniper's Afterschool Fun
DESCRIPTION:Event Details\n\nElementary-high school aged students are welcome. Come join us on Thursdays\, 5-6 PM. Game Night! Volunteers help run this program so please let us know if you can help! Space is limited. Registration is required so please sign-up ahead of time by going to gcld.org – programs – “view more”. \nThank you \n\nEvent Type(s): Afterschool Program\nAge Group(s): Elementary\, Young Adult/Teen\nPresenter: Sue & Amy\nJuniper Library\n(970) 627-8353\njunilib@gcld.org\n\n\n\nFor more information: https://gcldco.evanced.info/Signuphttps://gcldco.evanced.info/signup/EventDetailsEventId=19532&backTo=Calendar&startDate=2024/02/01
URL:https://grandlakecreativedistrict.org/event/afterschool-juniper-library/2026-02-19/
LOCATION:Juniper Library\, 316 Garfield St.\, Grand Lake\, 80447
CATEGORIES:Library
ATTACH;FMTTYPE=image/jpeg:https://grandlakecreativedistrict.org/wp-content/uploads/2023/12/IMG_9338_edited-scaled.jpg
END:VEVENT
BEGIN:VEVENT
DTSTART;TZID=UTC:20260219T220000
DTEND;TZID=UTC:20260219T230000
DTSTAMP:20260424T214835
CREATED:20240619T151614Z
LAST-MODIFIED:20260105T202227Z
UID:10011702-1771538400-1771542000@grandlakecreativedistrict.org
SUMMARY:Glass Fusing Classes
DESCRIPTION:Discover the art of glass fusing with a series of workshops at the Rocky Mountain Folk School. From beginner-friendly projects to advanced techniques\, these classes offer something for every level of creativity. \n• Glass Fusing for Beginners – Learn the fundamentals while creating your own unique glass piece.\n• Glass Fusion for Two – Spend a fun evening side by side designing your own fused glass pieces in this date night class.\n• Watercolor Technique – An intermediate workshop exploring painterly effects in glass.• Butterfly Vase – Design a sculptural vase through a two-step kiln process. \nAll classes are taught by glass artist Linda Dewey at Lonesome Stone Pottery in Granby. Dates are flexible. Please visit the registration site for details\, pricing\, and to sign up. \nRegister by going to  https://rockymountainfolkschool.org/classes/
URL:https://grandlakecreativedistrict.org/event/glass-fusing/2026-02-19/
LOCATION:Lonesome Stone Pottery\, 946 Co Rd 60\, Granby\, 80446\, United States
CATEGORIES:Rocky Mountain Folk School
ATTACH;FMTTYPE=image/jpeg:https://grandlakecreativedistrict.org/wp-content/uploads/2024/06/IMG_1046_edited-scaled.jpg
ORGANIZER;CN="Rocky Mountain Folk School":MAILTO:rockymountainfolkschool@gmail.com
END:VEVENT
END:VCALENDAR