BEGIN:VCALENDAR
VERSION:2.0
PRODID:-//Grand Lake Creative District - ECPv6.15.20//NONSGML v1.0//EN
CALSCALE:GREGORIAN
METHOD:PUBLISH
X-WR-CALNAME:Grand Lake Creative District
X-ORIGINAL-URL:https://grandlakecreativedistrict.org
X-WR-CALDESC:Events for Grand Lake Creative District
REFRESH-INTERVAL;VALUE=DURATION:PT1H
X-Robots-Tag:noindex
X-PUBLISHED-TTL:PT1H
BEGIN:VTIMEZONE
TZID:UTC
BEGIN:STANDARD
TZOFFSETFROM:+0000
TZOFFSETTO:+0000
TZNAME:UTC
DTSTART:20250101T000000
END:STANDARD
END:VTIMEZONE
BEGIN:VEVENT
DTSTART;TZID=UTC:20260207T100000
DTEND;TZID=UTC:20260207T120000
DTSTAMP:20260424T200804
CREATED:20250725T154641Z
LAST-MODIFIED:20250725T154641Z
UID:10009210-1770458400-1770465600@grandlakecreativedistrict.org
SUMMARY:Ice Sculpture Workshop
DESCRIPTION:Ice Sculpting Class\nDate: Sat\, Feb 7\, 2026 (10am-12pm)\nCost: $216 (1/4 ice block)\nLevel: Beginner & Intermediate\nInstructor: Colorado Ice Works\nLocation: Town Park – Grand Lake\, CO \n* Scholarships are available. To learn more\, please contact us at rockymountainfolkschool@gmail.com.\n* If you’re a business interested in sponsoring a student\, feel free to reach out to us at rockymountainfolkschool@gmail.com. \n*Registration Closes on January 24\, 2026 \nThis is a fun class with hands-on instruction provided by the team at Colorado Ice Works. Attendees will receive a clear block of ice\, some hand tools (sorry\, no chainsaws!) and reference material. Each class is approximately 2 hours long. Each attendee will have around 1.5 hours of actual sculpting time. Clear ice is a fascinating medium to sculpt. It is surprisingly soft to sculpt. Chisels and hand tools cut through it like a hot knife through butter. Like a perfectly cut diamond\, clear ice reflects and refracts light with each bend\, detail line or contour that is made. \nWe will spend 15 minutes at the beginning of the class discussing safety and proper tool handling. An additional 15 minutes will be spent going over the available designs to be sculpted and how to transfer those designs to the ice. Team members from Colorado Ice Works will be available to assist throughout the class\, to answer questions\, or to help anybody who gets stuck with where they are at. \nAt the conclusion of the class\, we’ll incorporate a touch of fire to melt the sculptures to a pristine\, crystal-clear finish. Participants can then wrap their unique creations for safe transport and carefully pack them into boxes to take home. This allows them to share their achievements with family and friends—a lasting reminder of the skills learned and memorable experiences from the event. \nREGISTER CLICK HERE or go to folk school website to learn more and see all the other workshops by clicking here 
URL:https://grandlakecreativedistrict.org/event/ice-sculpture-workshop/
LOCATION:Grand Lake Town Park\, 1025 Grand Ave\, Grand Lake\, 80447\, United States
CATEGORIES:Featured Art Workshops,Rocky Mountain Folk School
ATTACH;FMTTYPE=image/jpeg:https://grandlakecreativedistrict.org/wp-content/uploads/2024/10/DSC_0379-scaled.jpg
ORGANIZER;CN="Rocky Mountain Folk School":MAILTO:rockymountainfolkschool@gmail.com
END:VEVENT
BEGIN:VEVENT
DTSTART;TZID=UTC:20260207T130000
DTEND;TZID=UTC:20260207T170000
DTSTAMP:20260424T200804
CREATED:20251222T120114Z
LAST-MODIFIED:20251222T120114Z
UID:10013386-1770469200-1770483600@grandlakecreativedistrict.org
SUMMARY:Faux Stained Glass: Beginner
DESCRIPTION:Date Options:\nJanuary 24th 2026 1pm – 5pm (Moose)\nFebruary 7th 2026 1pm – 5pm (TBD..valentine special)\nMarch 7th 2026 1pm – 5pm (Western Cow Skull)\nApril 12th 2026 1pm – 5pm (Humming Bird)\nMay 2nd 2026 1pm – 5pm (Dragonfly)\nJune 2nd 2026 1pm – 5pm (Colorado Circle) \nBring color and light into your space with this creative faux stained glass workshop—perfect for a ladies’ night out or a fun get-together with your gal pals. Each month features a new design theme\, giving returning students the chance to try something fresh while building skills over time. Be sure to check the calendar listing to see the featured design for that session. Using an 8×10 glass panel from a frame and Plaid Gallery Glass Window Paint\, you’ll create a vibrant\, decorative piece with guidance and optional templates provided. \nThis welcoming\, hands-on class is suitable for all skill levels and offers a relaxed four-hour block to play with color\, line\, and texture in a cozy\, social setting. Finished pieces need a couple of days to fully dry before pickup\, making them perfect for gifting or adding a handmade touch to your home. \n\n\n\nWhat’s included\n\n*8×10 inch glass panel from a frame\n*Glass Window Paint\n*Templates for the monthly design\n*Step-by-step guidance from the instructor\n*All necessary tools and materials for painting\n*A relaxing\, hands-on creative experience \n\n\n\nWhat’s not included\n\nShipping fees\, if you choose to have your finished piece shipped \n\n\n\nREGISTER NOW
URL:https://grandlakecreativedistrict.org/event/faux-stained-glass/2026-02-07/
LOCATION:Rocky Mountain Folk School\, 315 Pitkin St\, Grand Lake (Grand County)\, CO\, 80447\, United States
CATEGORIES:Featured Art Workshops,Rocky Mountain Folk School
ATTACH;FMTTYPE=image/jpeg:https://grandlakecreativedistrict.org/wp-content/uploads/2025/12/IMG_4637-1-scaled.jpeg
ORGANIZER;CN="Rocky Mountain Folk School":MAILTO:rockymountainfolkschool@gmail.com
END:VEVENT
BEGIN:VEVENT
DTSTART;TZID=UTC:20260207T170000
DTEND;TZID=UTC:20260207T200000
DTSTAMP:20260424T200804
CREATED:20250730T140618Z
LAST-MODIFIED:20260416T142358Z
UID:10013585-1770483600-1770494400@grandlakecreativedistrict.org
SUMMARY:Leather Belt Making Workshop
DESCRIPTION:Date: CALL 970-531-1395 to request a date\nCost: $135 (materials are included..1 day class)\nLevel/Age: All Experience Levels\nInstructor: Isaac Baugher\nLocation: RMFS Building – 315 Pitkin Ave\, Grand Lake\, CO \nCreate a custom leather belt from start to finish in this hands-on 2.5-hour workshop! You’ll learn the basics of leather tooling and construction as you craft a belt that fits your style and size. The design and carving are entirely up to you—whether it’s your initials\, a western motif\, or a freeform pattern\, this is your chance to make something uniquely yours. Walk away with a belt that’s not only functional but a piece of wearable art. \nThis class is perfect for beginners and experienced leatherworkers alike\, as Isaac will guide you through every step\, from tooling techniques to the final assembly. All materials needed to complete your belt are included in the course. \nDon’t miss this opportunity to make something special with your own hands! \nREGISTER
URL:https://grandlakecreativedistrict.org/event/leather-belt/2026-02-07/
LOCATION:Rocky Mountain Folk School\, 315 Pitkin St\, Grand Lake (Grand County)\, CO\, 80447\, United States
CATEGORIES:Rocky Mountain Folk School
ATTACH;FMTTYPE=image/jpeg:https://grandlakecreativedistrict.org/wp-content/uploads/2025/07/GrandLake_JuniperLibraryLeatherWorkshop_Lumenati_Spring2025_5-scaled.jpg
ORGANIZER;CN="Rocky Mountain Folk School":MAILTO:rockymountainfolkschool@gmail.com
END:VEVENT
BEGIN:VEVENT
DTSTART;TZID=UTC:20260207T220000
DTEND;TZID=UTC:20260207T230000
DTSTAMP:20260424T200804
CREATED:20240619T151614Z
LAST-MODIFIED:20260105T202227Z
UID:10011692-1770501600-1770505200@grandlakecreativedistrict.org
SUMMARY:Glass Fusing Classes
DESCRIPTION:Discover the art of glass fusing with a series of workshops at the Rocky Mountain Folk School. From beginner-friendly projects to advanced techniques\, these classes offer something for every level of creativity. \n• Glass Fusing for Beginners – Learn the fundamentals while creating your own unique glass piece.\n• Glass Fusion for Two – Spend a fun evening side by side designing your own fused glass pieces in this date night class.\n• Watercolor Technique – An intermediate workshop exploring painterly effects in glass.• Butterfly Vase – Design a sculptural vase through a two-step kiln process. \nAll classes are taught by glass artist Linda Dewey at Lonesome Stone Pottery in Granby. Dates are flexible. Please visit the registration site for details\, pricing\, and to sign up. \nRegister by going to  https://rockymountainfolkschool.org/classes/
URL:https://grandlakecreativedistrict.org/event/glass-fusing/2026-02-07/
LOCATION:Lonesome Stone Pottery\, 946 Co Rd 60\, Granby\, 80446\, United States
CATEGORIES:Rocky Mountain Folk School
ATTACH;FMTTYPE=image/jpeg:https://grandlakecreativedistrict.org/wp-content/uploads/2024/06/IMG_1046_edited-scaled.jpg
ORGANIZER;CN="Rocky Mountain Folk School":MAILTO:rockymountainfolkschool@gmail.com
END:VEVENT
END:VCALENDAR